{"text_format":"1","workbook":"xlsx","n_sheets":6,"sheets":["Read me","RRR_Data form","Crosscheck-Calcs","Dropdown2","DropdownGov","IRAQ-Sub-distructs"],"not_rendered":{"charts":0,"images":3,"macros":1,"external_links":2,"defined_names":144,"comments":0,"pivot_tables":0},"unopened":[],"bounds":{"document_bytes":16777216,"sheet_cells":100000,"rows_first":2000,"rows_last":500,"rows_between":2000,"halvings":0,"cell_chars":16384,"cell_head_chars":4096},"cells_cut":0,"cells_raw":0,"read":"whole","date_system":"1900"}

{"sheet":"Read me","index":0,"n_rows":24,"n_cols":19,"rows_kept":24,"cut":false,"hidden":false,"merged":[[8,14,8,15],[8,0,8,7],[8,16,8,18]]}
[]
[]
[]
[]
[null,"Recovery, Reconstruction and Resilience Data Platform "]
[null,"Submit data to karrar.yousif@un.org"]
[null,"Request for access to platform: karrar.yousif@un.org, ivan.thung@un.org"]
[]
["Project details",null,null,null,null,null,null,null,"Location information",null,null,null,null,null,"Date",null,"Other info"]
["Project code","Project Name_Eng","Project Name_Ara","Sector","Value $","Status","Donor ","Agency ","X (Lon)","Y (Lat)","Governorate","District","Sub-District","Neighborhood / Village","Expected Start Date","Expected Completion Date","Beneficiaries_no","SDGs","Note"]
["SAD_NDP_RR01","Provision of Electrical Equipments to Sherqat Electrical Network in Shirqat","توفير المعدات الكهربائية لشبكة شرقاط الكهربائية في الشرقاط","Electricity ",38065,"Completed","DFID","UNDP",43.259932999999997,33.404571599999997,"Salah_al_Din","Al_Shirqat","Markaz Al Shirqat","Markaz Al Shirqat",190705,1912029,3000,"SDG-1, SDG-2, SDG-4"]
["SAD_HCR_RR89","Tikrit Central Water Project","مشروع  محطة ماء تكريت الرئيسية ","Water and Sewege",1415224,"Ongoing","USAID","UNHCR",42.829445,33.633535999999999,"Salah_al_Din","Tikrit","Al Alam","Al Alam",190705,1912029,2500,"SDG-3, SDG-8"]
["ANB_NDP_RR55","Renovation of Shayma school in Al Dour","إعادة تأهيل مدرسة الشيماء","Education ",38975,"Planned","Japaneas Government ","UNDP",43.259932999999997,33.404571599999997,"Anbar","Ramadi","Al Habbaniya","AL Habbaniya",190705,1912029,5000,"SDG-1, SDG-5"]
[]
[]
[]
[null,"Kindly input the fields as comprehensive as possible for best results in coordination.",null,null,null,null,"GPS points"]
[null,null,null,null,null,null,"1. Kindly use decimal degrees."]
[null,"Instructions"]
[null,"1-  Kindly fill the fields with inofrmation you have Keep the fields emty for non avilable inofrmation without delete any field "]
[null,"2-  For location information select from the dropdown lists except 'Neighborhood/Village\" you can fill it manually "]
[null,"3- Please try to add at least the start and end date of the project "]
[null,"4- Add any comment you have in Note field"]
[null,"5- Sustainable Development Goals (SDGs) added to give the RC office an overview about the projects objectives , you can select multi options from the dropdown list "]

{"sheet":"RRR_Data form","index":1,"n_rows":2,"n_cols":19,"rows_kept":2,"cut":false,"hidden":false,"merged":[[0,0,0,7],[0,14,0,15],[0,16,0,18]]}
["Project details",null,null,null,null,null,null,null,"Location information",null,null,null,null,null,"Date",null,"Other info"]
["Project code","Project Name_Eng","Project Name_Ara","Sector","Value $","Status","Donor ","Agency ","X (Lon)","Y (Lat)","Governorate","District","Sub-District","Neighborhood / Village","Expected Start Date","Expected Completion Date","Beneficiaries_no","SDGs","Note"]

{"sheet":"Crosscheck-Calcs","index":2,"n_rows":508,"n_cols":2,"rows_kept":508,"cut":false,"hidden":true,"merged":[]}
["Cross-check"]
[{"$f":"CONCATENATE(LEFT(#REF!,7),\"N\",LEFT(#REF!,7),\"E\")","v":{"$error":"#REF!"}},{"$f":"IF(A2=\"NE\",\" \",IF(COUNTIF(A:A,A2)>1,\"Match\",\"Clear\"))","v":{"$error":"#REF!"}}]
[{"$f":"CONCATENATE(LEFT(#REF!,7),\"N\",LEFT(#REF!,7),\"E\")","v":{"$error":"#REF!"}},{"$error":"#REF!"}]
[{"$f":"CONCATENATE(LEFT(#REF!,7),\"N\",LEFT(#REF!,7),\"E\")","v":{"$error":"#REF!"}},{"$error":"#REF!"}]
[{"$f":"CONCATENATE(LEFT(#REF!,7),\"N\",LEFT(#REF!,7),\"E\")","v":{"$error":"#REF!"}},{"$error":"#REF!"}]
[{"$f":"CONCATENATE(LEFT(#REF!,7),\"N\",LEFT(#REF!,7),\"E\")","v":{"$error":"#REF!"}},{"$error":"#REF!"}]
[{"$f":"CONCATENATE(LEFT(#REF!,7),\"N\",LEFT(#REF!,7),\"E\")","v":{"$error":"#REF!"}},{"$error":"#REF!"}]
[{"$f":"CONCATENATE(LEFT(#REF!,7),\"N\",LEFT(#REF!,7),\"E\")","v":{"$error":"#REF!"}},{"$error":"#REF!"}]
[{"$f":"CONCATENATE(LEFT(#REF!,7),\"N\",LEFT(#REF!,7),\"E\")","v":{"$error":"#REF!"}},{"$error":"#REF!"}]
[{"$f":"CONCATENATE(LEFT(#REF!,7),\"N\",LEFT(#REF!,7),\"E\")","v":{"$error":"#REF!"}},{"$error":"#REF!"}]
[{"$f":"CONCATENATE(LEFT(#REF!,7),\"N\",LEFT(#REF!,7),\"E\")","v":{"$error":"#REF!"}},{"$error":"#REF!"}]
[{"$f":"CONCATENATE(LEFT(#REF!,7),\"N\",LEFT(#REF!,7),\"E\")","v":{"$error":"#REF!"}},{"$error":"#REF!"}]
[{"$f":"CONCATENATE(LEFT(#REF!,7),\"N\",LEFT(#REF!,7),\"E\")","v":{"$error":"#REF!"}},{"$error":"#REF!"}]
[{"$f":"CONCATENATE(LEFT(#REF!,7),\"N\",LEFT(#REF!,7),\"E\")","v":{"$error":"#REF!"}},{"$error":"#REF!"}]
[{"$f":"CONCATENATE(LEFT(#REF!,7),\"N\",LEFT(#REF!,7),\"E\")","v":{"$error":"#REF!"}},{"$error":"#REF!"}]
[{"$f":"CONCATENATE(LEFT(#REF!,7),\"N\",LEFT(#REF!,7),\"E\")","v":{"$error":"#REF!"}},{"$error":"#REF!"}]
[{"$f":"CONCATENATE(LEFT(#REF!,7),\"N\",LEFT(#REF!,7),\"E\")","v":{"$error":"#REF!"}},{"$error":"#REF!"}]
[{"$f":"CONCATENATE(LEFT(#REF!,7),\"N\",LEFT(#REF!,7),\"E\")","v":{"$error":"#REF!"}},{"$error":"#REF!"}]
[{"$f":"CONCATENATE(LEFT(#REF!,7),\"N\",LEFT(#REF!,7),\"E\")","v":{"$error":"#REF!"}},{"$error":"#REF!"}]
[{"$f":"CONCATENATE(LEFT(#REF!,7),\"N\",LEFT(#REF!,7),\"E\")","v":{"$error":"#REF!"}},{"$error":"#REF!"}]
[{"$f":"CONCATENATE(LEFT(#REF!,7),\"N\",LEFT(#REF!,7),\"E\")","v":{"$error":"#REF!"}},{"$error":"#REF!"}]
[{"$f":"CONCATENATE(LEFT(#REF!,7),\"N\",LEFT(#REF!,7),\"E\")","v":{"$error":"#REF!"}},{"$error":"#REF!"}]
[{"$f":"CONCATENATE(LEFT(#REF!,7),\"N\",LEFT(#REF!,7),\"E\")","v":{"$error":"#REF!"}},{"$error":"#REF!"}]
[{"$f":"CONCATENATE(LEFT(#REF!,7),\"N\",LEFT(#REF!,7),\"E\")","v":{"$error":"#REF!"}},{"$error":"#REF!"}]
[{"$f":"CONCATENATE(LEFT(#REF!,7),\"N\",LEFT(#REF!,7),\"E\")","v":{"$error":"#REF!"}},{"$error":"#REF!"}]
[{"$f":"CONCATENATE(LEFT(#REF!,7),\"N\",LEFT(#REF!,7),\"E\")","v":{"$error":"#REF!"}},{"$error":"#REF!"}]
[{"$f":"CONCATENATE(LEFT(#REF!,7),\"N\",LEFT(#REF!,7),\"E\")","v":{"$error":"#REF!"}},{"$error":"#REF!"}]
[{"$f":"CONCATENATE(LEFT(#REF!,7),\"N\",LEFT(#REF!,7),\"E\")","v":{"$error":"#REF!"}},{"$error":"#REF!"}]
[{"$f":"CONCATENATE(LEFT(#REF!,7),\"N\",LEFT(#REF!,7),\"E\")","v":{"$error":"#REF!"}},{"$error":"#REF!"}]
[{"$f":"CONCATENATE(LEFT(#REF!,7),\"N\",LEFT(#REF!,7),\"E\")","v":{"$error":"#REF!"}},{"$error":"#REF!"}]
[{"$f":"CONCATENATE(LEFT(#REF!,7),\"N\",LEFT(#REF!,7),\"E\")","v":{"$error":"#REF!"}},{"$error":"#REF!"}]
[{"$f":"CONCATENATE(LEFT(#REF!,7),\"N\",LEFT(#REF!,7),\"E\")","v":{"$error":"#REF!"}},{"$error":"#REF!"}]
[{"$f":"CONCATENATE(LEFT(#REF!,7),\"N\",LEFT(#REF!,7),\"E\")","v":{"$error":"#REF!"}},{"$error":"#REF!"}]
[{"$f":"CONCATENATE(LEFT(#REF!,7),\"N\",LEFT(#REF!,7),\"E\")","v":{"$error":"#REF!"}},{"$error":"#REF!"}]
[{"$f":"CONCATENATE(LEFT(#REF!,7),\"N\",LEFT(#REF!,7),\"E\")","v":{"$error":"#REF!"}},{"$error":"#REF!"}]
[{"$f":"CONCATENATE(LEFT(#REF!,7),\"N\",LEFT(#REF!,7),\"E\")","v":{"$error":"#REF!"}},{"$error":"#REF!"}]
[{"$f":"CONCATENATE(LEFT(#REF!,7),\"N\",LEFT(#REF!,7),\"E\")","v":{"$error":"#REF!"}},{"$error":"#REF!"}]
[{"$f":"CONCATENATE(LEFT(#REF!,7),\"N\",LEFT(#REF!,7),\"E\")","v":{"$error":"#REF!"}},{"$error":"#REF!"}]
[{"$f":"CONCATENATE(LEFT(#REF!,7),\"N\",LEFT(#REF!,7),\"E\")","v":{"$error":"#REF!"}},{"$error":"#REF!"}]
[{"$f":"CONCATENATE(LEFT(#REF!,7),\"N\",LEFT(#REF!,7),\"E\")","v":{"$error":"#REF!"}},{"$error":"#REF!"}]
[{"$f":"CONCATENATE(LEFT(#REF!,7),\"N\",LEFT(#REF!,7),\"E\")","v":{"$error":"#REF!"}},{"$error":"#REF!"}]
[{"$f":"CONCATENATE(LEFT(#REF!,7),\"N\",LEFT(#REF!,7),\"E\")","v":{"$error":"#REF!"}},{"$error":"#REF!"}]
[{"$f":"CONCATENATE(LEFT(#REF!,7),\"N\",LEFT(#REF!,7),\"E\")","v":{"$error":"#REF!"}},{"$error":"#REF!"}]
[{"$f":"CONCATENATE(LEFT(#REF!,7),\"N\",LEFT(#REF!,7),\"E\")","v":{"$error":"#REF!"}},{"$error":"#REF!"}]
[{"$f":"CONCATENATE(LEFT(#REF!,7),\"N\",LEFT(#REF!,7),\"E\")","v":{"$error":"#REF!"}},{"$error":"#REF!"}]
[{"$f":"CONCATENATE(LEFT(#REF!,7),\"N\",LEFT(#REF!,7),\"E\")","v":{"$error":"#REF!"}},{"$error":"#REF!"}]
[{"$f":"CONCATENATE(LEFT(#REF!,7),\"N\",LEFT(#REF!,7),\"E\")","v":{"$error":"#REF!"}},{"$error":"#REF!"}]
[{"$f":"CONCATENATE(LEFT(#REF!,7),\"N\",LEFT(#REF!,7),\"E\")","v":{"$error":"#REF!"}},{"$error":"#REF!"}]
[{"$f":"CONCATENATE(LEFT(#REF!,7),\"N\",LEFT(#REF!,7),\"E\")","v":{"$error":"#REF!"}},{"$error":"#REF!"}]
[{"$f":"CONCATENATE(LEFT(#REF!,7),\"N\",LEFT(#REF!,7),\"E\")","v":{"$error":"#REF!"}},{"$error":"#REF!"}]
[{"$f":"CONCATENATE(LEFT(#REF!,7),\"N\",LEFT(#REF!,7),\"E\")","v":{"$error":"#REF!"}},{"$error":"#REF!"}]
[{"$f":"CONCATENATE(LEFT(#REF!,7),\"N\",LEFT(#REF!,7),\"E\")","v":{"$error":"#REF!"}},{"$error":"#REF!"}]
[{"$f":"CONCATENATE(LEFT(#REF!,7),\"N\",LEFT(#REF!,7),\"E\")","v":{"$error":"#REF!"}},{"$error":"#REF!"}]
[{"$f":"CONCATENATE(LEFT(#REF!,7),\"N\",LEFT(#REF!,7),\"E\")","v":{"$error":"#REF!"}},{"$error":"#REF!"}]
[{"$f":"CONCATENATE(LEFT(#REF!,7),\"N\",LEFT(#REF!,7),\"E\")","v":{"$error":"#REF!"}},{"$error":"#REF!"}]
[{"$f":"CONCATENATE(LEFT(#REF!,7),\"N\",LEFT(#REF!,7),\"E\")","v":{"$error":"#REF!"}},{"$error":"#REF!"}]
[{"$f":"CONCATENATE(LEFT(#REF!,7),\"N\",LEFT(#REF!,7),\"E\")","v":{"$error":"#REF!"}},{"$error":"#REF!"}]
[{"$f":"CONCATENATE(LEFT(#REF!,7),\"N\",LEFT(#REF!,7),\"E\")","v":{"$error":"#REF!"}},{"$error":"#REF!"}]
[{"$f":"CONCATENATE(LEFT(#REF!,7),\"N\",LEFT(#REF!,7),\"E\")","v":{"$error":"#REF!"}},{"$error":"#REF!"}]
[{"$f":"CONCATENATE(LEFT(#REF!,7),\"N\",LEFT(#REF!,7),\"E\")","v":{"$error":"#REF!"}},{"$error":"#REF!"}]
[{"$f":"CONCATENATE(LEFT(#REF!,7),\"N\",LEFT(#REF!,7),\"E\")","v":{"$error":"#REF!"}},{"$error":"#REF!"}]
[{"$f":"CONCATENATE(LEFT(#REF!,7),\"N\",LEFT(#REF!,7),\"E\")","v":{"$error":"#REF!"}},{"$error":"#REF!"}]
[{"$f":"CONCATENATE(LEFT(#REF!,7),\"N\",LEFT(#REF!,7),\"E\")","v":{"$error":"#REF!"}},{"$error":"#REF!"}]
[{"$f":"CONCATENATE(LEFT(#REF!,7),\"N\",LEFT(#REF!,7),\"E\")","v":{"$error":"#REF!"}},{"$error":"#REF!"}]
[{"$f":"CONCATENATE(LEFT(#REF!,7),\"N\",LEFT(#REF!,7),\"E\")","v":{"$error":"#REF!"}},{"$error":"#REF!"}]
[{"$f":"CONCATENATE(LEFT(#REF!,7),\"N\",LEFT(#REF!,7),\"E\")","v":{"$error":"#REF!"}},{"$f":"IF(A66=\"NE\",\" \",IF(COUNTIF(A:A,A66)>1,\"Match\",\"Clear\"))","v":{"$error":"#REF!"}}]
[{"$f":"CONCATENATE(LEFT(#REF!,7),\"N\",LEFT(#REF!,7),\"E\")","v":{"$error":"#REF!"}},{"$error":"#REF!"}]
[{"$f":"CONCATENATE(LEFT(#REF!,7),\"N\",LEFT(#REF!,7),\"E\")","v":{"$error":"#REF!"}},{"$error":"#REF!"}]
[{"$f":"CONCATENATE(LEFT(#REF!,7),\"N\",LEFT(#REF!,7),\"E\")","v":{"$error":"#REF!"}},{"$error":"#REF!"}]
[{"$f":"CONCATENATE(LEFT(#REF!,7),\"N\",LEFT(#REF!,7),\"E\")","v":{"$error":"#REF!"}},{"$error":"#REF!"}]
[{"$f":"CONCATENATE(LEFT(#REF!,7),\"N\",LEFT(#REF!,7),\"E\")","v":{"$error":"#REF!"}},{"$error":"#REF!"}]
[{"$f":"CONCATENATE(LEFT(#REF!,7),\"N\",LEFT(#REF!,7),\"E\")","v":{"$error":"#REF!"}},{"$error":"#REF!"}]
[{"$f":"CONCATENATE(LEFT(#REF!,7),\"N\",LEFT(#REF!,7),\"E\")","v":{"$error":"#REF!"}},{"$error":"#REF!"}]
[{"$f":"CONCATENATE(LEFT(#REF!,7),\"N\",LEFT(#REF!,7),\"E\")","v":{"$error":"#REF!"}},{"$error":"#REF!"}]
[{"$f":"CONCATENATE(LEFT(#REF!,7),\"N\",LEFT(#REF!,7),\"E\")","v":{"$error":"#REF!"}},{"$error":"#REF!"}]
[{"$f":"CONCATENATE(LEFT(#REF!,7),\"N\",LEFT(#REF!,7),\"E\")","v":{"$error":"#REF!"}},{"$error":"#REF!"}]
[{"$f":"CONCATENATE(LEFT(#REF!,7),\"N\",LEFT(#REF!,7),\"E\")","v":{"$error":"#REF!"}},{"$error":"#REF!"}]
[{"$f":"CONCATENATE(LEFT(#REF!,7),\"N\",LEFT(#REF!,7),\"E\")","v":{"$error":"#REF!"}},{"$error":"#REF!"}]
[{"$f":"CONCATENATE(LEFT(#REF!,7),\"N\",LEFT(#REF!,7),\"E\")","v":{"$error":"#REF!"}},{"$error":"#REF!"}]
[{"$f":"CONCATENATE(LEFT(#REF!,7),\"N\",LEFT(#REF!,7),\"E\")","v":{"$error":"#REF!"}},{"$error":"#REF!"}]
[{"$f":"CONCATENATE(LEFT(#REF!,7),\"N\",LEFT(#REF!,7),\"E\")","v":{"$error":"#REF!"}},{"$error":"#REF!"}]
[{"$f":"CONCATENATE(LEFT(#REF!,7),\"N\",LEFT(#REF!,7),\"E\")","v":{"$error":"#REF!"}},{"$error":"#REF!"}]
[{"$f":"CONCATENATE(LEFT(#REF!,7),\"N\",LEFT(#REF!,7),\"E\")","v":{"$error":"#REF!"}},{"$error":"#REF!"}]
[{"$f":"CONCATENATE(LEFT(#REF!,7),\"N\",LEFT(#REF!,7),\"E\")","v":{"$error":"#REF!"}},{"$error":"#REF!"}]
[{"$f":"CONCATENATE(LEFT(#REF!,7),\"N\",LEFT(#REF!,7),\"E\")","v":{"$error":"#REF!"}},{"$error":"#REF!"}]
[{"$f":"CONCATENATE(LEFT(#REF!,7),\"N\",LEFT(#REF!,7),\"E\")","v":{"$error":"#REF!"}},{"$error":"#REF!"}]
[{"$f":"CONCATENATE(LEFT(#REF!,7),\"N\",LEFT(#REF!,7),\"E\")","v":{"$error":"#REF!"}},{"$error":"#REF!"}]
[{"$f":"CONCATENATE(LEFT(#REF!,7),\"N\",LEFT(#REF!,7),\"E\")","v":{"$error":"#REF!"}},{"$error":"#REF!"}]
[{"$f":"CONCATENATE(LEFT(#REF!,7),\"N\",LEFT(#REF!,7),\"E\")","v":{"$error":"#REF!"}},{"$error":"#REF!"}]
[{"$f":"CONCATENATE(LEFT(#REF!,7),\"N\",LEFT(#REF!,7),\"E\")","v":{"$error":"#REF!"}},{"$error":"#REF!"}]
[{"$f":"CONCATENATE(LEFT(#REF!,7),\"N\",LEFT(#REF!,7),\"E\")","v":{"$error":"#REF!"}},{"$error":"#REF!"}]
[{"$f":"CONCATENATE(LEFT(#REF!,7),\"N\",LEFT(#REF!,7),\"E\")","v":{"$error":"#REF!"}},{"$error":"#REF!"}]
[{"$f":"CONCATENATE(LEFT(#REF!,7),\"N\",LEFT(#REF!,7),\"E\")","v":{"$error":"#REF!"}},{"$error":"#REF!"}]
[{"$f":"CONCATENATE(LEFT(#REF!,7),\"N\",LEFT(#REF!,7),\"E\")","v":{"$error":"#REF!"}},{"$error":"#REF!"}]
[{"$f":"CONCATENATE(LEFT(#REF!,7),\"N\",LEFT(#REF!,7),\"E\")","v":{"$error":"#REF!"}},{"$error":"#REF!"}]
[{"$f":"CONCATENATE(LEFT(#REF!,7),\"N\",LEFT(#REF!,7),\"E\")","v":{"$error":"#REF!"}},{"$error":"#REF!"}]
[{"$f":"CONCATENATE(LEFT(#REF!,7),\"N\",LEFT(#REF!,7),\"E\")","v":{"$error":"#REF!"}},{"$error":"#REF!"}]
[{"$f":"CONCATENATE(LEFT(#REF!,7),\"N\",LEFT(#REF!,7),\"E\")","v":{"$error":"#REF!"}},{"$error":"#REF!"}]
[{"$f":"CONCATENATE(LEFT(#REF!,7),\"N\",LEFT(#REF!,7),\"E\")","v":{"$error":"#REF!"}},{"$error":"#REF!"}]
[{"$f":"CONCATENATE(LEFT(#REF!,7),\"N\",LEFT(#REF!,7),\"E\")","v":{"$error":"#REF!"}},{"$error":"#REF!"}]
[{"$f":"CONCATENATE(LEFT(#REF!,7),\"N\",LEFT(#REF!,7),\"E\")","v":{"$error":"#REF!"}},{"$error":"#REF!"}]
[{"$f":"CONCATENATE(LEFT(#REF!,7),\"N\",LEFT(#REF!,7),\"E\")","v":{"$error":"#REF!"}},{"$error":"#REF!"}]
[{"$f":"CONCATENATE(LEFT(#REF!,7),\"N\",LEFT(#REF!,7),\"E\")","v":{"$error":"#REF!"}},{"$error":"#REF!"}]
[{"$f":"CONCATENATE(LEFT(#REF!,7),\"N\",LEFT(#REF!,7),\"E\")","v":{"$error":"#REF!"}},{"$error":"#REF!"}]
[{"$f":"CONCATENATE(LEFT(#REF!,7),\"N\",LEFT(#REF!,7),\"E\")","v":{"$error":"#REF!"}},{"$error":"#REF!"}]
[{"$f":"CONCATENATE(LEFT(#REF!,7),\"N\",LEFT(#REF!,7),\"E\")","v":{"$error":"#REF!"}},{"$error":"#REF!"}]
[{"$f":"CONCATENATE(LEFT(#REF!,7),\"N\",LEFT(#REF!,7),\"E\")","v":{"$error":"#REF!"}},{"$error":"#REF!"}]
[{"$f":"CONCATENATE(LEFT(#REF!,7),\"N\",LEFT(#REF!,7),\"E\")","v":{"$error":"#REF!"}},{"$error":"#REF!"}]
[{"$f":"CONCATENATE(LEFT(#REF!,7),\"N\",LEFT(#REF!,7),\"E\")","v":{"$error":"#REF!"}},{"$error":"#REF!"}]
[{"$f":"CONCATENATE(LEFT(#REF!,7),\"N\",LEFT(#REF!,7),\"E\")","v":{"$error":"#REF!"}},{"$error":"#REF!"}]
[{"$f":"CONCATENATE(LEFT(#REF!,7),\"N\",LEFT(#REF!,7),\"E\")","v":{"$error":"#REF!"}},{"$error":"#REF!"}]
[{"$f":"CONCATENATE(LEFT(#REF!,7),\"N\",LEFT(#REF!,7),\"E\")","v":{"$error":"#REF!"}},{"$error":"#REF!"}]
[{"$f":"CONCATENATE(LEFT(#REF!,7),\"N\",LEFT(#REF!,7),\"E\")","v":{"$error":"#REF!"}},{"$error":"#REF!"}]
[{"$f":"CONCATENATE(LEFT(#REF!,7),\"N\",LEFT(#REF!,7),\"E\")","v":{"$error":"#REF!"}},{"$error":"#REF!"}]
[{"$f":"CONCATENATE(LEFT(#REF!,7),\"N\",LEFT(#REF!,7),\"E\")","v":{"$error":"#REF!"}},{"$error":"#REF!"}]
[{"$f":"CONCATENATE(LEFT(#REF!,7),\"N\",LEFT(#REF!,7),\"E\")","v":{"$error":"#REF!"}},{"$error":"#REF!"}]
[{"$f":"CONCATENATE(LEFT(#REF!,7),\"N\",LEFT(#REF!,7),\"E\")","v":{"$error":"#REF!"}},{"$error":"#REF!"}]
[{"$f":"CONCATENATE(LEFT(#REF!,7),\"N\",LEFT(#REF!,7),\"E\")","v":{"$error":"#REF!"}},{"$error":"#REF!"}]
[{"$f":"CONCATENATE(LEFT(#REF!,7),\"N\",LEFT(#REF!,7),\"E\")","v":{"$error":"#REF!"}},{"$error":"#REF!"}]
[{"$f":"CONCATENATE(LEFT(#REF!,7),\"N\",LEFT(#REF!,7),\"E\")","v":{"$error":"#REF!"}},{"$error":"#REF!"}]
[{"$f":"CONCATENATE(LEFT(#REF!,7),\"N\",LEFT(#REF!,7),\"E\")","v":{"$error":"#REF!"}},{"$error":"#REF!"}]
[{"$f":"CONCATENATE(LEFT(#REF!,7),\"N\",LEFT(#REF!,7),\"E\")","v":{"$error":"#REF!"}},{"$error":"#REF!"}]
[{"$f":"CONCATENATE(LEFT(#REF!,7),\"N\",LEFT(#REF!,7),\"E\")","v":{"$error":"#REF!"}},{"$error":"#REF!"}]
[{"$f":"CONCATENATE(LEFT(#REF!,7),\"N\",LEFT(#REF!,7),\"E\")","v":{"$error":"#REF!"}},{"$error":"#REF!"}]
[{"$f":"CONCATENATE(LEFT(#REF!,7),\"N\",LEFT(#REF!,7),\"E\")","v":{"$error":"#REF!"}},{"$error":"#REF!"}]
[{"$f":"CONCATENATE(LEFT(#REF!,7),\"N\",LEFT(#REF!,7),\"E\")","v":{"$error":"#REF!"}},{"$error":"#REF!"}]
[{"$f":"CONCATENATE(LEFT(#REF!,7),\"N\",LEFT(#REF!,7),\"E\")","v":{"$error":"#REF!"}},{"$error":"#REF!"}]
[{"$f":"CONCATENATE(LEFT(#REF!,7),\"N\",LEFT(#REF!,7),\"E\")","v":{"$error":"#REF!"}},{"$error":"#REF!"}]
[{"$f":"CONCATENATE(LEFT(#REF!,7),\"N\",LEFT(#REF!,7),\"E\")","v":{"$error":"#REF!"}},{"$error":"#REF!"}]
[{"$f":"CONCATENATE(LEFT(#REF!,7),\"N\",LEFT(#REF!,7),\"E\")","v":{"$error":"#REF!"}},{"$f":"IF(A130=\"NE\",\" \",IF(COUNTIF(A:A,A130)>1,\"Match\",\"Clear\"))","v":{"$error":"#REF!"}}]
[{"$f":"CONCATENATE(LEFT(#REF!,7),\"N\",LEFT(#REF!,7),\"E\")","v":{"$error":"#REF!"}},{"$error":"#REF!"}]
[{"$f":"CONCATENATE(LEFT(#REF!,7),\"N\",LEFT(#REF!,7),\"E\")","v":{"$error":"#REF!"}},{"$error":"#REF!"}]
[{"$f":"CONCATENATE(LEFT(#REF!,7),\"N\",LEFT(#REF!,7),\"E\")","v":{"$error":"#REF!"}},{"$error":"#REF!"}]
[{"$f":"CONCATENATE(LEFT(#REF!,7),\"N\",LEFT(#REF!,7),\"E\")","v":{"$error":"#REF!"}},{"$error":"#REF!"}]
[{"$f":"CONCATENATE(LEFT(#REF!,7),\"N\",LEFT(#REF!,7),\"E\")","v":{"$error":"#REF!"}},{"$error":"#REF!"}]
[{"$f":"CONCATENATE(LEFT(#REF!,7),\"N\",LEFT(#REF!,7),\"E\")","v":{"$error":"#REF!"}},{"$error":"#REF!"}]
[{"$f":"CONCATENATE(LEFT(#REF!,7),\"N\",LEFT(#REF!,7),\"E\")","v":{"$error":"#REF!"}},{"$error":"#REF!"}]
[{"$f":"CONCATENATE(LEFT(#REF!,7),\"N\",LEFT(#REF!,7),\"E\")","v":{"$error":"#REF!"}},{"$error":"#REF!"}]
[{"$f":"CONCATENATE(LEFT(#REF!,7),\"N\",LEFT(#REF!,7),\"E\")","v":{"$error":"#REF!"}},{"$error":"#REF!"}]
[{"$f":"CONCATENATE(LEFT(#REF!,7),\"N\",LEFT(#REF!,7),\"E\")","v":{"$error":"#REF!"}},{"$error":"#REF!"}]
[{"$f":"CONCATENATE(LEFT(#REF!,7),\"N\",LEFT(#REF!,7),\"E\")","v":{"$error":"#REF!"}},{"$error":"#REF!"}]
[{"$f":"CONCATENATE(LEFT(#REF!,7),\"N\",LEFT(#REF!,7),\"E\")","v":{"$error":"#REF!"}},{"$error":"#REF!"}]
[{"$f":"CONCATENATE(LEFT(#REF!,7),\"N\",LEFT(#REF!,7),\"E\")","v":{"$error":"#REF!"}},{"$error":"#REF!"}]
[{"$f":"CONCATENATE(LEFT(#REF!,7),\"N\",LEFT(#REF!,7),\"E\")","v":{"$error":"#REF!"}},{"$error":"#REF!"}]
[{"$f":"CONCATENATE(LEFT(#REF!,7),\"N\",LEFT(#REF!,7),\"E\")","v":{"$error":"#REF!"}},{"$error":"#REF!"}]
[{"$f":"CONCATENATE(LEFT(#REF!,7),\"N\",LEFT(#REF!,7),\"E\")","v":{"$error":"#REF!"}},{"$error":"#REF!"}]
[{"$f":"CONCATENATE(LEFT(#REF!,7),\"N\",LEFT(#REF!,7),\"E\")","v":{"$error":"#REF!"}},{"$error":"#REF!"}]
[{"$f":"CONCATENATE(LEFT(#REF!,7),\"N\",LEFT(#REF!,7),\"E\")","v":{"$error":"#REF!"}},{"$error":"#REF!"}]
[{"$f":"CONCATENATE(LEFT(#REF!,7),\"N\",LEFT(#REF!,7),\"E\")","v":{"$error":"#REF!"}},{"$error":"#REF!"}]
[{"$f":"CONCATENATE(LEFT(#REF!,7),\"N\",LEFT(#REF!,7),\"E\")","v":{"$error":"#REF!"}},{"$error":"#REF!"}]
[{"$f":"CONCATENATE(LEFT(#REF!,7),\"N\",LEFT(#REF!,7),\"E\")","v":{"$error":"#REF!"}},{"$error":"#REF!"}]
[{"$f":"CONCATENATE(LEFT(#REF!,7),\"N\",LEFT(#REF!,7),\"E\")","v":{"$error":"#REF!"}},{"$error":"#REF!"}]
[{"$f":"CONCATENATE(LEFT(#REF!,7),\"N\",LEFT(#REF!,7),\"E\")","v":{"$error":"#REF!"}},{"$error":"#REF!"}]
[{"$f":"CONCATENATE(LEFT(#REF!,7),\"N\",LEFT(#REF!,7),\"E\")","v":{"$error":"#REF!"}},{"$error":"#REF!"}]
[{"$f":"CONCATENATE(LEFT(#REF!,7),\"N\",LEFT(#REF!,7),\"E\")","v":{"$error":"#REF!"}},{"$error":"#REF!"}]
[{"$f":"CONCATENATE(LEFT(#REF!,7),\"N\",LEFT(#REF!,7),\"E\")","v":{"$error":"#REF!"}},{"$error":"#REF!"}]
[{"$f":"CONCATENATE(LEFT(#REF!,7),\"N\",LEFT(#REF!,7),\"E\")","v":{"$error":"#REF!"}},{"$error":"#REF!"}]
[{"$f":"CONCATENATE(LEFT(#REF!,7),\"N\",LEFT(#REF!,7),\"E\")","v":{"$error":"#REF!"}},{"$error":"#REF!"}]
[{"$f":"CONCATENATE(LEFT(#REF!,7),\"N\",LEFT(#REF!,7),\"E\")","v":{"$error":"#REF!"}},{"$error":"#REF!"}]
[{"$f":"CONCATENATE(LEFT(#REF!,7),\"N\",LEFT(#REF!,7),\"E\")","v":{"$error":"#REF!"}},{"$error":"#REF!"}]
[{"$f":"CONCATENATE(LEFT(#REF!,7),\"N\",LEFT(#REF!,7),\"E\")","v":{"$error":"#REF!"}},{"$error":"#REF!"}]
[{"$f":"CONCATENATE(LEFT(#REF!,7),\"N\",LEFT(#REF!,7),\"E\")","v":{"$error":"#REF!"}},{"$error":"#REF!"}]
[{"$f":"CONCATENATE(LEFT(#REF!,7),\"N\",LEFT(#REF!,7),\"E\")","v":{"$error":"#REF!"}},{"$error":"#REF!"}]
[{"$f":"CONCATENATE(LEFT(#REF!,7),\"N\",LEFT(#REF!,7),\"E\")","v":{"$error":"#REF!"}},{"$error":"#REF!"}]
[{"$f":"CONCATENATE(LEFT(#REF!,7),\"N\",LEFT(#REF!,7),\"E\")","v":{"$error":"#REF!"}},{"$error":"#REF!"}]
[{"$f":"CONCATENATE(LEFT(#REF!,7),\"N\",LEFT(#REF!,7),\"E\")","v":{"$error":"#REF!"}},{"$error":"#REF!"}]
[{"$f":"CONCATENATE(LEFT(#REF!,7),\"N\",LEFT(#REF!,7),\"E\")","v":{"$error":"#REF!"}},{"$error":"#REF!"}]
[{"$f":"CONCATENATE(LEFT(#REF!,7),\"N\",LEFT(#REF!,7),\"E\")","v":{"$error":"#REF!"}},{"$error":"#REF!"}]
[{"$f":"CONCATENATE(LEFT(#REF!,7),\"N\",LEFT(#REF!,7),\"E\")","v":{"$error":"#REF!"}},{"$error":"#REF!"}]
[{"$f":"CONCATENATE(LEFT(#REF!,7),\"N\",LEFT(#REF!,7),\"E\")","v":{"$error":"#REF!"}},{"$error":"#REF!"}]
[{"$f":"CONCATENATE(LEFT(#REF!,7),\"N\",LEFT(#REF!,7),\"E\")","v":{"$error":"#REF!"}},{"$error":"#REF!"}]
[{"$f":"CONCATENATE(LEFT(#REF!,7),\"N\",LEFT(#REF!,7),\"E\")","v":{"$error":"#REF!"}},{"$error":"#REF!"}]
[{"$f":"CONCATENATE(LEFT(#REF!,7),\"N\",LEFT(#REF!,7),\"E\")","v":{"$error":"#REF!"}},{"$error":"#REF!"}]
[{"$f":"CONCATENATE(LEFT(#REF!,7),\"N\",LEFT(#REF!,7),\"E\")","v":{"$error":"#REF!"}},{"$error":"#REF!"}]
[{"$f":"CONCATENATE(LEFT(#REF!,7),\"N\",LEFT(#REF!,7),\"E\")","v":{"$error":"#REF!"}},{"$error":"#REF!"}]
[{"$f":"CONCATENATE(LEFT(#REF!,7),\"N\",LEFT(#REF!,7),\"E\")","v":{"$error":"#REF!"}},{"$error":"#REF!"}]
[{"$f":"CONCATENATE(LEFT(#REF!,7),\"N\",LEFT(#REF!,7),\"E\")","v":{"$error":"#REF!"}},{"$error":"#REF!"}]
[{"$f":"CONCATENATE(LEFT(#REF!,7),\"N\",LEFT(#REF!,7),\"E\")","v":{"$error":"#REF!"}},{"$error":"#REF!"}]
[{"$f":"CONCATENATE(LEFT(#REF!,7),\"N\",LEFT(#REF!,7),\"E\")","v":{"$error":"#REF!"}},{"$error":"#REF!"}]
[{"$f":"CONCATENATE(LEFT(#REF!,7),\"N\",LEFT(#REF!,7),\"E\")","v":{"$error":"#REF!"}},{"$error":"#REF!"}]
[{"$f":"CONCATENATE(LEFT(#REF!,7),\"N\",LEFT(#REF!,7),\"E\")","v":{"$error":"#REF!"}},{"$error":"#REF!"}]
[{"$f":"CONCATENATE(LEFT(#REF!,7),\"N\",LEFT(#REF!,7),\"E\")","v":{"$error":"#REF!"}},{"$error":"#REF!"}]
[{"$f":"CONCATENATE(LEFT(#REF!,7),\"N\",LEFT(#REF!,7),\"E\")","v":{"$error":"#REF!"}},{"$error":"#REF!"}]
[{"$f":"CONCATENATE(LEFT(#REF!,7),\"N\",LEFT(#REF!,7),\"E\")","v":{"$error":"#REF!"}},{"$error":"#REF!"}]
[{"$f":"CONCATENATE(LEFT(#REF!,7),\"N\",LEFT(#REF!,7),\"E\")","v":{"$error":"#REF!"}},{"$error":"#REF!"}]
[{"$f":"CONCATENATE(LEFT(#REF!,7),\"N\",LEFT(#REF!,7),\"E\")","v":{"$error":"#REF!"}},{"$error":"#REF!"}]
[{"$f":"CONCATENATE(LEFT(#REF!,7),\"N\",LEFT(#REF!,7),\"E\")","v":{"$error":"#REF!"}},{"$error":"#REF!"}]
[{"$f":"CONCATENATE(LEFT(#REF!,7),\"N\",LEFT(#REF!,7),\"E\")","v":{"$error":"#REF!"}},{"$error":"#REF!"}]
[{"$f":"CONCATENATE(LEFT(#REF!,7),\"N\",LEFT(#REF!,7),\"E\")","v":{"$error":"#REF!"}},{"$error":"#REF!"}]
[{"$f":"CONCATENATE(LEFT(#REF!,7),\"N\",LEFT(#REF!,7),\"E\")","v":{"$error":"#REF!"}},{"$error":"#REF!"}]
[{"$f":"CONCATENATE(LEFT(#REF!,7),\"N\",LEFT(#REF!,7),\"E\")","v":{"$error":"#REF!"}},{"$error":"#REF!"}]
[{"$f":"CONCATENATE(LEFT(#REF!,7),\"N\",LEFT(#REF!,7),\"E\")","v":{"$error":"#REF!"}},{"$error":"#REF!"}]
[{"$f":"CONCATENATE(LEFT(#REF!,7),\"N\",LEFT(#REF!,7),\"E\")","v":{"$error":"#REF!"}},{"$error":"#REF!"}]
[{"$f":"CONCATENATE(LEFT(#REF!,7),\"N\",LEFT(#REF!,7),\"E\")","v":{"$error":"#REF!"}},{"$f":"IF(A194=\"NE\",\" \",IF(COUNTIF(A:A,A194)>1,\"Match\",\"Clear\"))","v":{"$error":"#REF!"}}]
[{"$f":"CONCATENATE(LEFT(#REF!,7),\"N\",LEFT(#REF!,7),\"E\")","v":{"$error":"#REF!"}},{"$error":"#REF!"}]
[{"$f":"CONCATENATE(LEFT(#REF!,7),\"N\",LEFT(#REF!,7),\"E\")","v":{"$error":"#REF!"}},{"$error":"#REF!"}]
[{"$f":"CONCATENATE(LEFT(#REF!,7),\"N\",LEFT(#REF!,7),\"E\")","v":{"$error":"#REF!"}},{"$error":"#REF!"}]
[{"$f":"CONCATENATE(LEFT(#REF!,7),\"N\",LEFT(#REF!,7),\"E\")","v":{"$error":"#REF!"}},{"$error":"#REF!"}]
[{"$f":"CONCATENATE(LEFT(#REF!,7),\"N\",LEFT(#REF!,7),\"E\")","v":{"$error":"#REF!"}},{"$error":"#REF!"}]
[{"$f":"CONCATENATE(LEFT(#REF!,7),\"N\",LEFT(#REF!,7),\"E\")","v":{"$error":"#REF!"}},{"$error":"#REF!"}]
[{"$f":"CONCATENATE(LEFT(#REF!,7),\"N\",LEFT(#REF!,7),\"E\")","v":{"$error":"#REF!"}},{"$error":"#REF!"}]
[{"$f":"CONCATENATE(LEFT(#REF!,7),\"N\",LEFT(#REF!,7),\"E\")","v":{"$error":"#REF!"}},{"$error":"#REF!"}]
[{"$f":"CONCATENATE(LEFT(#REF!,7),\"N\",LEFT(#REF!,7),\"E\")","v":{"$error":"#REF!"}},{"$error":"#REF!"}]
[{"$f":"CONCATENATE(LEFT(#REF!,7),\"N\",LEFT(#REF!,7),\"E\")","v":{"$error":"#REF!"}},{"$error":"#REF!"}]
[{"$f":"CONCATENATE(LEFT(#REF!,7),\"N\",LEFT(#REF!,7),\"E\")","v":{"$error":"#REF!"}},{"$error":"#REF!"}]
[{"$f":"CONCATENATE(LEFT(#REF!,7),\"N\",LEFT(#REF!,7),\"E\")","v":{"$error":"#REF!"}},{"$error":"#REF!"}]
[{"$f":"CONCATENATE(LEFT(#REF!,7),\"N\",LEFT(#REF!,7),\"E\")","v":{"$error":"#REF!"}},{"$error":"#REF!"}]
[{"$f":"CONCATENATE(LEFT(#REF!,7),\"N\",LEFT(#REF!,7),\"E\")","v":{"$error":"#REF!"}},{"$error":"#REF!"}]
[{"$f":"CONCATENATE(LEFT(#REF!,7),\"N\",LEFT(#REF!,7),\"E\")","v":{"$error":"#REF!"}},{"$error":"#REF!"}]
[{"$f":"CONCATENATE(LEFT(#REF!,7),\"N\",LEFT(#REF!,7),\"E\")","v":{"$error":"#REF!"}},{"$error":"#REF!"}]
[{"$f":"CONCATENATE(LEFT(#REF!,7),\"N\",LEFT(#REF!,7),\"E\")","v":{"$error":"#REF!"}},{"$error":"#REF!"}]
[{"$f":"CONCATENATE(LEFT(#REF!,7),\"N\",LEFT(#REF!,7),\"E\")","v":{"$error":"#REF!"}},{"$error":"#REF!"}]
[{"$f":"CONCATENATE(LEFT(#REF!,7),\"N\",LEFT(#REF!,7),\"E\")","v":{"$error":"#REF!"}},{"$error":"#REF!"}]
[{"$f":"CONCATENATE(LEFT(#REF!,7),\"N\",LEFT(#REF!,7),\"E\")","v":{"$error":"#REF!"}},{"$error":"#REF!"}]
[{"$f":"CONCATENATE(LEFT(#REF!,7),\"N\",LEFT(#REF!,7),\"E\")","v":{"$error":"#REF!"}},{"$error":"#REF!"}]
[{"$f":"CONCATENATE(LEFT(#REF!,7),\"N\",LEFT(#REF!,7),\"E\")","v":{"$error":"#REF!"}},{"$error":"#REF!"}]
[{"$f":"CONCATENATE(LEFT(#REF!,7),\"N\",LEFT(#REF!,7),\"E\")","v":{"$error":"#REF!"}},{"$error":"#REF!"}]
[{"$f":"CONCATENATE(LEFT(#REF!,7),\"N\",LEFT(#REF!,7),\"E\")","v":{"$error":"#REF!"}},{"$error":"#REF!"}]
[{"$f":"CONCATENATE(LEFT(#REF!,7),\"N\",LEFT(#REF!,7),\"E\")","v":{"$error":"#REF!"}},{"$error":"#REF!"}]
[{"$f":"CONCATENATE(LEFT(#REF!,7),\"N\",LEFT(#REF!,7),\"E\")","v":{"$error":"#REF!"}},{"$error":"#REF!"}]
[{"$f":"CONCATENATE(LEFT(#REF!,7),\"N\",LEFT(#REF!,7),\"E\")","v":{"$error":"#REF!"}},{"$error":"#REF!"}]
[{"$f":"CONCATENATE(LEFT(#REF!,7),\"N\",LEFT(#REF!,7),\"E\")","v":{"$error":"#REF!"}},{"$error":"#REF!"}]
[{"$f":"CONCATENATE(LEFT(#REF!,7),\"N\",LEFT(#REF!,7),\"E\")","v":{"$error":"#REF!"}},{"$error":"#REF!"}]
[{"$f":"CONCATENATE(LEFT(#REF!,7),\"N\",LEFT(#REF!,7),\"E\")","v":{"$error":"#REF!"}},{"$error":"#REF!"}]
[{"$f":"CONCATENATE(LEFT(#REF!,7),\"N\",LEFT(#REF!,7),\"E\")","v":{"$error":"#REF!"}},{"$error":"#REF!"}]
[{"$f":"CONCATENATE(LEFT(#REF!,7),\"N\",LEFT(#REF!,7),\"E\")","v":{"$error":"#REF!"}},{"$error":"#REF!"}]
[{"$f":"CONCATENATE(LEFT(#REF!,7),\"N\",LEFT(#REF!,7),\"E\")","v":{"$error":"#REF!"}},{"$error":"#REF!"}]
[{"$f":"CONCATENATE(LEFT(#REF!,7),\"N\",LEFT(#REF!,7),\"E\")","v":{"$error":"#REF!"}},{"$error":"#REF!"}]
[{"$f":"CONCATENATE(LEFT(#REF!,7),\"N\",LEFT(#REF!,7),\"E\")","v":{"$error":"#REF!"}},{"$error":"#REF!"}]
[{"$f":"CONCATENATE(LEFT(#REF!,7),\"N\",LEFT(#REF!,7),\"E\")","v":{"$error":"#REF!"}},{"$error":"#REF!"}]
[{"$f":"CONCATENATE(LEFT(#REF!,7),\"N\",LEFT(#REF!,7),\"E\")","v":{"$error":"#REF!"}},{"$error":"#REF!"}]
[{"$f":"CONCATENATE(LEFT(#REF!,7),\"N\",LEFT(#REF!,7),\"E\")","v":{"$error":"#REF!"}},{"$error":"#REF!"}]
[{"$f":"CONCATENATE(LEFT(#REF!,7),\"N\",LEFT(#REF!,7),\"E\")","v":{"$error":"#REF!"}},{"$error":"#REF!"}]
[{"$f":"CONCATENATE(LEFT(#REF!,7),\"N\",LEFT(#REF!,7),\"E\")","v":{"$error":"#REF!"}},{"$error":"#REF!"}]
[{"$f":"CONCATENATE(LEFT(#REF!,7),\"N\",LEFT(#REF!,7),\"E\")","v":{"$error":"#REF!"}},{"$error":"#REF!"}]
[{"$f":"CONCATENATE(LEFT(#REF!,7),\"N\",LEFT(#REF!,7),\"E\")","v":{"$error":"#REF!"}},{"$error":"#REF!"}]
[{"$f":"CONCATENATE(LEFT(#REF!,7),\"N\",LEFT(#REF!,7),\"E\")","v":{"$error":"#REF!"}},{"$error":"#REF!"}]
[{"$f":"CONCATENATE(LEFT(#REF!,7),\"N\",LEFT(#REF!,7),\"E\")","v":{"$error":"#REF!"}},{"$error":"#REF!"}]
[{"$f":"CONCATENATE(LEFT(#REF!,7),\"N\",LEFT(#REF!,7),\"E\")","v":{"$error":"#REF!"}},{"$error":"#REF!"}]
[{"$f":"CONCATENATE(LEFT(#REF!,7),\"N\",LEFT(#REF!,7),\"E\")","v":{"$error":"#REF!"}},{"$error":"#REF!"}]
[{"$f":"CONCATENATE(LEFT(#REF!,7),\"N\",LEFT(#REF!,7),\"E\")","v":{"$error":"#REF!"}},{"$error":"#REF!"}]
[{"$f":"CONCATENATE(LEFT(#REF!,7),\"N\",LEFT(#REF!,7),\"E\")","v":{"$error":"#REF!"}},{"$error":"#REF!"}]
[{"$f":"CONCATENATE(LEFT(#REF!,7),\"N\",LEFT(#REF!,7),\"E\")","v":{"$error":"#REF!"}},{"$error":"#REF!"}]
[{"$f":"CONCATENATE(LEFT(#REF!,7),\"N\",LEFT(#REF!,7),\"E\")","v":{"$error":"#REF!"}},{"$error":"#REF!"}]
[{"$f":"CONCATENATE(LEFT(#REF!,7),\"N\",LEFT(#REF!,7),\"E\")","v":{"$error":"#REF!"}},{"$error":"#REF!"}]
[{"$f":"CONCATENATE(LEFT(#REF!,7),\"N\",LEFT(#REF!,7),\"E\")","v":{"$error":"#REF!"}},{"$error":"#REF!"}]
[{"$f":"CONCATENATE(LEFT(#REF!,7),\"N\",LEFT(#REF!,7),\"E\")","v":{"$error":"#REF!"}},{"$error":"#REF!"}]
[{"$f":"CONCATENATE(LEFT(#REF!,7),\"N\",LEFT(#REF!,7),\"E\")","v":{"$error":"#REF!"}},{"$error":"#REF!"}]
[{"$f":"CONCATENATE(LEFT(#REF!,7),\"N\",LEFT(#REF!,7),\"E\")","v":{"$error":"#REF!"}},{"$error":"#REF!"}]
[{"$f":"CONCATENATE(LEFT(#REF!,7),\"N\",LEFT(#REF!,7),\"E\")","v":{"$error":"#REF!"}},{"$error":"#REF!"}]
[{"$f":"CONCATENATE(LEFT(#REF!,7),\"N\",LEFT(#REF!,7),\"E\")","v":{"$error":"#REF!"}},{"$error":"#REF!"}]
[{"$f":"CONCATENATE(LEFT(#REF!,7),\"N\",LEFT(#REF!,7),\"E\")","v":{"$error":"#REF!"}},{"$error":"#REF!"}]
[{"$f":"CONCATENATE(LEFT(#REF!,7),\"N\",LEFT(#REF!,7),\"E\")","v":{"$error":"#REF!"}},{"$error":"#REF!"}]
[{"$f":"CONCATENATE(LEFT(#REF!,7),\"N\",LEFT(#REF!,7),\"E\")","v":{"$error":"#REF!"}},{"$error":"#REF!"}]
[{"$f":"CONCATENATE(LEFT(#REF!,7),\"N\",LEFT(#REF!,7),\"E\")","v":{"$error":"#REF!"}},{"$error":"#REF!"}]
[{"$f":"CONCATENATE(LEFT(#REF!,7),\"N\",LEFT(#REF!,7),\"E\")","v":{"$error":"#REF!"}},{"$error":"#REF!"}]
[{"$f":"CONCATENATE(LEFT(#REF!,7),\"N\",LEFT(#REF!,7),\"E\")","v":{"$error":"#REF!"}},{"$error":"#REF!"}]
[{"$f":"CONCATENATE(LEFT(#REF!,7),\"N\",LEFT(#REF!,7),\"E\")","v":{"$error":"#REF!"}},{"$f":"IF(A258=\"NE\",\" \",IF(COUNTIF(A:A,A258)>1,\"Match\",\"Clear\"))","v":{"$error":"#REF!"}}]
[{"$f":"CONCATENATE(LEFT(#REF!,7),\"N\",LEFT(#REF!,7),\"E\")","v":{"$error":"#REF!"}},{"$error":"#REF!"}]
[{"$f":"CONCATENATE(LEFT(#REF!,7),\"N\",LEFT(#REF!,7),\"E\")","v":{"$error":"#REF!"}},{"$error":"#REF!"}]
[{"$f":"CONCATENATE(LEFT(#REF!,7),\"N\",LEFT(#REF!,7),\"E\")","v":{"$error":"#REF!"}},{"$error":"#REF!"}]
[{"$f":"CONCATENATE(LEFT(#REF!,7),\"N\",LEFT(#REF!,7),\"E\")","v":{"$error":"#REF!"}},{"$error":"#REF!"}]
[{"$f":"CONCATENATE(LEFT(#REF!,7),\"N\",LEFT(#REF!,7),\"E\")","v":{"$error":"#REF!"}},{"$error":"#REF!"}]
[{"$f":"CONCATENATE(LEFT(#REF!,7),\"N\",LEFT(#REF!,7),\"E\")","v":{"$error":"#REF!"}},{"$error":"#REF!"}]
[{"$f":"CONCATENATE(LEFT(#REF!,7),\"N\",LEFT(#REF!,7),\"E\")","v":{"$error":"#REF!"}},{"$error":"#REF!"}]
[{"$f":"CONCATENATE(LEFT(#REF!,7),\"N\",LEFT(#REF!,7),\"E\")","v":{"$error":"#REF!"}},{"$error":"#REF!"}]
[{"$f":"CONCATENATE(LEFT(#REF!,7),\"N\",LEFT(#REF!,7),\"E\")","v":{"$error":"#REF!"}},{"$error":"#REF!"}]
[{"$f":"CONCATENATE(LEFT(#REF!,7),\"N\",LEFT(#REF!,7),\"E\")","v":{"$error":"#REF!"}},{"$error":"#REF!"}]
[{"$f":"CONCATENATE(LEFT(#REF!,7),\"N\",LEFT(#REF!,7),\"E\")","v":{"$error":"#REF!"}},{"$error":"#REF!"}]
[{"$f":"CONCATENATE(LEFT(#REF!,7),\"N\",LEFT(#REF!,7),\"E\")","v":{"$error":"#REF!"}},{"$error":"#REF!"}]
[{"$f":"CONCATENATE(LEFT(#REF!,7),\"N\",LEFT(#REF!,7),\"E\")","v":{"$error":"#REF!"}},{"$error":"#REF!"}]
[{"$f":"CONCATENATE(LEFT(#REF!,7),\"N\",LEFT(#REF!,7),\"E\")","v":{"$error":"#REF!"}},{"$error":"#REF!"}]
[{"$f":"CONCATENATE(LEFT(#REF!,7),\"N\",LEFT(#REF!,7),\"E\")","v":{"$error":"#REF!"}},{"$error":"#REF!"}]
[{"$f":"CONCATENATE(LEFT(#REF!,7),\"N\",LEFT(#REF!,7),\"E\")","v":{"$error":"#REF!"}},{"$error":"#REF!"}]
[{"$f":"CONCATENATE(LEFT(#REF!,7),\"N\",LEFT(#REF!,7),\"E\")","v":{"$error":"#REF!"}},{"$error":"#REF!"}]
[{"$f":"CONCATENATE(LEFT(#REF!,7),\"N\",LEFT(#REF!,7),\"E\")","v":{"$error":"#REF!"}},{"$error":"#REF!"}]
[{"$f":"CONCATENATE(LEFT(#REF!,7),\"N\",LEFT(#REF!,7),\"E\")","v":{"$error":"#REF!"}},{"$error":"#REF!"}]
[{"$f":"CONCATENATE(LEFT(#REF!,7),\"N\",LEFT(#REF!,7),\"E\")","v":{"$error":"#REF!"}},{"$error":"#REF!"}]
[{"$f":"CONCATENATE(LEFT(#REF!,7),\"N\",LEFT(#REF!,7),\"E\")","v":{"$error":"#REF!"}},{"$error":"#REF!"}]
[{"$f":"CONCATENATE(LEFT(#REF!,7),\"N\",LEFT(#REF!,7),\"E\")","v":{"$error":"#REF!"}},{"$error":"#REF!"}]
[{"$f":"CONCATENATE(LEFT(#REF!,7),\"N\",LEFT(#REF!,7),\"E\")","v":{"$error":"#REF!"}},{"$error":"#REF!"}]
[{"$f":"CONCATENATE(LEFT(#REF!,7),\"N\",LEFT(#REF!,7),\"E\")","v":{"$error":"#REF!"}},{"$error":"#REF!"}]
[{"$f":"CONCATENATE(LEFT(#REF!,7),\"N\",LEFT(#REF!,7),\"E\")","v":{"$error":"#REF!"}},{"$error":"#REF!"}]
[{"$f":"CONCATENATE(LEFT(#REF!,7),\"N\",LEFT(#REF!,7),\"E\")","v":{"$error":"#REF!"}},{"$error":"#REF!"}]
[{"$f":"CONCATENATE(LEFT(#REF!,7),\"N\",LEFT(#REF!,7),\"E\")","v":{"$error":"#REF!"}},{"$error":"#REF!"}]
[{"$f":"CONCATENATE(LEFT(#REF!,7),\"N\",LEFT(#REF!,7),\"E\")","v":{"$error":"#REF!"}},{"$error":"#REF!"}]
[{"$f":"CONCATENATE(LEFT(#REF!,7),\"N\",LEFT(#REF!,7),\"E\")","v":{"$error":"#REF!"}},{"$error":"#REF!"}]
[{"$f":"CONCATENATE(LEFT(#REF!,7),\"N\",LEFT(#REF!,7),\"E\")","v":{"$error":"#REF!"}},{"$error":"#REF!"}]
[{"$f":"CONCATENATE(LEFT(#REF!,7),\"N\",LEFT(#REF!,7),\"E\")","v":{"$error":"#REF!"}},{"$error":"#REF!"}]
[{"$f":"CONCATENATE(LEFT(#REF!,7),\"N\",LEFT(#REF!,7),\"E\")","v":{"$error":"#REF!"}},{"$error":"#REF!"}]
[{"$f":"CONCATENATE(LEFT(#REF!,7),\"N\",LEFT(#REF!,7),\"E\")","v":{"$error":"#REF!"}},{"$error":"#REF!"}]
[{"$f":"CONCATENATE(LEFT(#REF!,7),\"N\",LEFT(#REF!,7),\"E\")","v":{"$error":"#REF!"}},{"$error":"#REF!"}]
[{"$f":"CONCATENATE(LEFT(#REF!,7),\"N\",LEFT(#REF!,7),\"E\")","v":{"$error":"#REF!"}},{"$error":"#REF!"}]
[{"$f":"CONCATENATE(LEFT(#REF!,7),\"N\",LEFT(#REF!,7),\"E\")","v":{"$error":"#REF!"}},{"$error":"#REF!"}]
[{"$f":"CONCATENATE(LEFT(#REF!,7),\"N\",LEFT(#REF!,7),\"E\")","v":{"$error":"#REF!"}},{"$error":"#REF!"}]
[{"$f":"CONCATENATE(LEFT(#REF!,7),\"N\",LEFT(#REF!,7),\"E\")","v":{"$error":"#REF!"}},{"$error":"#REF!"}]
[{"$f":"CONCATENATE(LEFT(#REF!,7),\"N\",LEFT(#REF!,7),\"E\")","v":{"$error":"#REF!"}},{"$error":"#REF!"}]
[{"$f":"CONCATENATE(LEFT(#REF!,7),\"N\",LEFT(#REF!,7),\"E\")","v":{"$error":"#REF!"}},{"$error":"#REF!"}]
[{"$f":"CONCATENATE(LEFT(#REF!,7),\"N\",LEFT(#REF!,7),\"E\")","v":{"$error":"#REF!"}},{"$error":"#REF!"}]
[{"$f":"CONCATENATE(LEFT(#REF!,7),\"N\",LEFT(#REF!,7),\"E\")","v":{"$error":"#REF!"}},{"$error":"#REF!"}]
[{"$f":"CONCATENATE(LEFT(#REF!,7),\"N\",LEFT(#REF!,7),\"E\")","v":{"$error":"#REF!"}},{"$error":"#REF!"}]
[{"$f":"CONCATENATE(LEFT(#REF!,7),\"N\",LEFT(#REF!,7),\"E\")","v":{"$error":"#REF!"}},{"$error":"#REF!"}]
[{"$f":"CONCATENATE(LEFT(#REF!,7),\"N\",LEFT(#REF!,7),\"E\")","v":{"$error":"#REF!"}},{"$error":"#REF!"}]
[{"$f":"CONCATENATE(LEFT(#REF!,7),\"N\",LEFT(#REF!,7),\"E\")","v":{"$error":"#REF!"}},{"$error":"#REF!"}]
[{"$f":"CONCATENATE(LEFT(#REF!,7),\"N\",LEFT(#REF!,7),\"E\")","v":{"$error":"#REF!"}},{"$error":"#REF!"}]
[{"$f":"CONCATENATE(LEFT(#REF!,7),\"N\",LEFT(#REF!,7),\"E\")","v":{"$error":"#REF!"}},{"$error":"#REF!"}]
[{"$f":"CONCATENATE(LEFT(#REF!,7),\"N\",LEFT(#REF!,7),\"E\")","v":{"$error":"#REF!"}},{"$error":"#REF!"}]
[{"$f":"CONCATENATE(LEFT(#REF!,7),\"N\",LEFT(#REF!,7),\"E\")","v":{"$error":"#REF!"}},{"$error":"#REF!"}]
[{"$f":"CONCATENATE(LEFT(#REF!,7),\"N\",LEFT(#REF!,7),\"E\")","v":{"$error":"#REF!"}},{"$error":"#REF!"}]
[{"$f":"CONCATENATE(LEFT(#REF!,7),\"N\",LEFT(#REF!,7),\"E\")","v":{"$error":"#REF!"}},{"$error":"#REF!"}]
[{"$f":"CONCATENATE(LEFT(#REF!,7),\"N\",LEFT(#REF!,7),\"E\")","v":{"$error":"#REF!"}},{"$error":"#REF!"}]
[{"$f":"CONCATENATE(LEFT(#REF!,7),\"N\",LEFT(#REF!,7),\"E\")","v":{"$error":"#REF!"}},{"$error":"#REF!"}]
[{"$f":"CONCATENATE(LEFT(#REF!,7),\"N\",LEFT(#REF!,7),\"E\")","v":{"$error":"#REF!"}},{"$error":"#REF!"}]
[{"$f":"CONCATENATE(LEFT(#REF!,7),\"N\",LEFT(#REF!,7),\"E\")","v":{"$error":"#REF!"}},{"$error":"#REF!"}]
[{"$f":"CONCATENATE(LEFT(#REF!,7),\"N\",LEFT(#REF!,7),\"E\")","v":{"$error":"#REF!"}},{"$error":"#REF!"}]
[{"$f":"CONCATENATE(LEFT(#REF!,7),\"N\",LEFT(#REF!,7),\"E\")","v":{"$error":"#REF!"}},{"$error":"#REF!"}]
[{"$f":"CONCATENATE(LEFT(#REF!,7),\"N\",LEFT(#REF!,7),\"E\")","v":{"$error":"#REF!"}},{"$error":"#REF!"}]
[{"$f":"CONCATENATE(LEFT(#REF!,7),\"N\",LEFT(#REF!,7),\"E\")","v":{"$error":"#REF!"}},{"$error":"#REF!"}]
[{"$f":"CONCATENATE(LEFT(#REF!,7),\"N\",LEFT(#REF!,7),\"E\")","v":{"$error":"#REF!"}},{"$error":"#REF!"}]
[{"$f":"CONCATENATE(LEFT(#REF!,7),\"N\",LEFT(#REF!,7),\"E\")","v":{"$error":"#REF!"}},{"$error":"#REF!"}]
[{"$f":"CONCATENATE(LEFT(#REF!,7),\"N\",LEFT(#REF!,7),\"E\")","v":{"$error":"#REF!"}},{"$error":"#REF!"}]
[{"$f":"CONCATENATE(LEFT(#REF!,7),\"N\",LEFT(#REF!,7),\"E\")","v":{"$error":"#REF!"}},{"$f":"IF(A322=\"NE\",\" \",IF(COUNTIF(A:A,A322)>1,\"Match\",\"Clear\"))","v":{"$error":"#REF!"}}]
[{"$f":"CONCATENATE(LEFT(#REF!,7),\"N\",LEFT(#REF!,7),\"E\")","v":{"$error":"#REF!"}},{"$error":"#REF!"}]
[{"$f":"CONCATENATE(LEFT(#REF!,7),\"N\",LEFT(#REF!,7),\"E\")","v":{"$error":"#REF!"}},{"$error":"#REF!"}]
[{"$f":"CONCATENATE(LEFT(#REF!,7),\"N\",LEFT(#REF!,7),\"E\")","v":{"$error":"#REF!"}},{"$error":"#REF!"}]
[{"$f":"CONCATENATE(LEFT(#REF!,7),\"N\",LEFT(#REF!,7),\"E\")","v":{"$error":"#REF!"}},{"$error":"#REF!"}]
[{"$f":"CONCATENATE(LEFT(#REF!,7),\"N\",LEFT(#REF!,7),\"E\")","v":{"$error":"#REF!"}},{"$error":"#REF!"}]
[{"$f":"CONCATENATE(LEFT(#REF!,7),\"N\",LEFT(#REF!,7),\"E\")","v":{"$error":"#REF!"}},{"$error":"#REF!"}]
[{"$f":"CONCATENATE(LEFT(#REF!,7),\"N\",LEFT(#REF!,7),\"E\")","v":{"$error":"#REF!"}},{"$error":"#REF!"}]
[{"$f":"CONCATENATE(LEFT(#REF!,7),\"N\",LEFT(#REF!,7),\"E\")","v":{"$error":"#REF!"}},{"$error":"#REF!"}]
[{"$f":"CONCATENATE(LEFT(#REF!,7),\"N\",LEFT(#REF!,7),\"E\")","v":{"$error":"#REF!"}},{"$error":"#REF!"}]
[{"$f":"CONCATENATE(LEFT(#REF!,7),\"N\",LEFT(#REF!,7),\"E\")","v":{"$error":"#REF!"}},{"$error":"#REF!"}]
[{"$f":"CONCATENATE(LEFT(#REF!,7),\"N\",LEFT(#REF!,7),\"E\")","v":{"$error":"#REF!"}},{"$error":"#REF!"}]
[{"$f":"CONCATENATE(LEFT(#REF!,7),\"N\",LEFT(#REF!,7),\"E\")","v":{"$error":"#REF!"}},{"$error":"#REF!"}]
[{"$f":"CONCATENATE(LEFT(#REF!,7),\"N\",LEFT(#REF!,7),\"E\")","v":{"$error":"#REF!"}},{"$error":"#REF!"}]
[{"$f":"CONCATENATE(LEFT(#REF!,7),\"N\",LEFT(#REF!,7),\"E\")","v":{"$error":"#REF!"}},{"$error":"#REF!"}]
[{"$f":"CONCATENATE(LEFT(#REF!,7),\"N\",LEFT(#REF!,7),\"E\")","v":{"$error":"#REF!"}},{"$error":"#REF!"}]
[{"$f":"CONCATENATE(LEFT(#REF!,7),\"N\",LEFT(#REF!,7),\"E\")","v":{"$error":"#REF!"}},{"$error":"#REF!"}]
[{"$f":"CONCATENATE(LEFT(#REF!,7),\"N\",LEFT(#REF!,7),\"E\")","v":{"$error":"#REF!"}},{"$error":"#REF!"}]
[{"$f":"CONCATENATE(LEFT(#REF!,7),\"N\",LEFT(#REF!,7),\"E\")","v":{"$error":"#REF!"}},{"$error":"#REF!"}]
[{"$f":"CONCATENATE(LEFT(#REF!,7),\"N\",LEFT(#REF!,7),\"E\")","v":{"$error":"#REF!"}},{"$error":"#REF!"}]
[{"$f":"CONCATENATE(LEFT(#REF!,7),\"N\",LEFT(#REF!,7),\"E\")","v":{"$error":"#REF!"}},{"$error":"#REF!"}]
[{"$f":"CONCATENATE(LEFT(#REF!,7),\"N\",LEFT(#REF!,7),\"E\")","v":{"$error":"#REF!"}},{"$error":"#REF!"}]
[{"$f":"CONCATENATE(LEFT(#REF!,7),\"N\",LEFT(#REF!,7),\"E\")","v":{"$error":"#REF!"}},{"$error":"#REF!"}]
[{"$f":"CONCATENATE(LEFT(#REF!,7),\"N\",LEFT(#REF!,7),\"E\")","v":{"$error":"#REF!"}},{"$error":"#REF!"}]
[{"$f":"CONCATENATE(LEFT(#REF!,7),\"N\",LEFT(#REF!,7),\"E\")","v":{"$error":"#REF!"}},{"$error":"#REF!"}]
[{"$f":"CONCATENATE(LEFT(#REF!,7),\"N\",LEFT(#REF!,7),\"E\")","v":{"$error":"#REF!"}},{"$error":"#REF!"}]
[{"$f":"CONCATENATE(LEFT(#REF!,7),\"N\",LEFT(#REF!,7),\"E\")","v":{"$error":"#REF!"}},{"$error":"#REF!"}]
[{"$f":"CONCATENATE(LEFT(#REF!,7),\"N\",LEFT(#REF!,7),\"E\")","v":{"$error":"#REF!"}},{"$error":"#REF!"}]
[{"$f":"CONCATENATE(LEFT(#REF!,7),\"N\",LEFT(#REF!,7),\"E\")","v":{"$error":"#REF!"}},{"$error":"#REF!"}]
[{"$f":"CONCATENATE(LEFT(#REF!,7),\"N\",LEFT(#REF!,7),\"E\")","v":{"$error":"#REF!"}},{"$error":"#REF!"}]
[{"$f":"CONCATENATE(LEFT(#REF!,7),\"N\",LEFT(#REF!,7),\"E\")","v":{"$error":"#REF!"}},{"$error":"#REF!"}]
[{"$f":"CONCATENATE(LEFT(#REF!,7),\"N\",LEFT(#REF!,7),\"E\")","v":{"$error":"#REF!"}},{"$error":"#REF!"}]
[{"$f":"CONCATENATE(LEFT(#REF!,7),\"N\",LEFT(#REF!,7),\"E\")","v":{"$error":"#REF!"}},{"$error":"#REF!"}]
[{"$f":"CONCATENATE(LEFT(#REF!,7),\"N\",LEFT(#REF!,7),\"E\")","v":{"$error":"#REF!"}},{"$error":"#REF!"}]
[{"$f":"CONCATENATE(LEFT(#REF!,7),\"N\",LEFT(#REF!,7),\"E\")","v":{"$error":"#REF!"}},{"$error":"#REF!"}]
[{"$f":"CONCATENATE(LEFT(#REF!,7),\"N\",LEFT(#REF!,7),\"E\")","v":{"$error":"#REF!"}},{"$error":"#REF!"}]
[{"$f":"CONCATENATE(LEFT(#REF!,7),\"N\",LEFT(#REF!,7),\"E\")","v":{"$error":"#REF!"}},{"$error":"#REF!"}]
[{"$f":"CONCATENATE(LEFT(#REF!,7),\"N\",LEFT(#REF!,7),\"E\")","v":{"$error":"#REF!"}},{"$error":"#REF!"}]
[{"$f":"CONCATENATE(LEFT(#REF!,7),\"N\",LEFT(#REF!,7),\"E\")","v":{"$error":"#REF!"}},{"$error":"#REF!"}]
[{"$f":"CONCATENATE(LEFT(#REF!,7),\"N\",LEFT(#REF!,7),\"E\")","v":{"$error":"#REF!"}},{"$error":"#REF!"}]
[{"$f":"CONCATENATE(LEFT(#REF!,7),\"N\",LEFT(#REF!,7),\"E\")","v":{"$error":"#REF!"}},{"$error":"#REF!"}]
[{"$f":"CONCATENATE(LEFT(#REF!,7),\"N\",LEFT(#REF!,7),\"E\")","v":{"$error":"#REF!"}},{"$error":"#REF!"}]
[{"$f":"CONCATENATE(LEFT(#REF!,7),\"N\",LEFT(#REF!,7),\"E\")","v":{"$error":"#REF!"}},{"$error":"#REF!"}]
[{"$f":"CONCATENATE(LEFT(#REF!,7),\"N\",LEFT(#REF!,7),\"E\")","v":{"$error":"#REF!"}},{"$error":"#REF!"}]
[{"$f":"CONCATENATE(LEFT(#REF!,7),\"N\",LEFT(#REF!,7),\"E\")","v":{"$error":"#REF!"}},{"$error":"#REF!"}]
[{"$f":"CONCATENATE(LEFT(#REF!,7),\"N\",LEFT(#REF!,7),\"E\")","v":{"$error":"#REF!"}},{"$error":"#REF!"}]
[{"$f":"CONCATENATE(LEFT(#REF!,7),\"N\",LEFT(#REF!,7),\"E\")","v":{"$error":"#REF!"}},{"$error":"#REF!"}]
[{"$f":"CONCATENATE(LEFT(#REF!,7),\"N\",LEFT(#REF!,7),\"E\")","v":{"$error":"#REF!"}},{"$error":"#REF!"}]
[{"$f":"CONCATENATE(LEFT(#REF!,7),\"N\",LEFT(#REF!,7),\"E\")","v":{"$error":"#REF!"}},{"$error":"#REF!"}]
[{"$f":"CONCATENATE(LEFT(#REF!,7),\"N\",LEFT(#REF!,7),\"E\")","v":{"$error":"#REF!"}},{"$error":"#REF!"}]
[{"$f":"CONCATENATE(LEFT(#REF!,7),\"N\",LEFT(#REF!,7),\"E\")","v":{"$error":"#REF!"}},{"$error":"#REF!"}]
[{"$f":"CONCATENATE(LEFT(#REF!,7),\"N\",LEFT(#REF!,7),\"E\")","v":{"$error":"#REF!"}},{"$error":"#REF!"}]
[{"$f":"CONCATENATE(LEFT(#REF!,7),\"N\",LEFT(#REF!,7),\"E\")","v":{"$error":"#REF!"}},{"$error":"#REF!"}]
[{"$f":"CONCATENATE(LEFT(#REF!,7),\"N\",LEFT(#REF!,7),\"E\")","v":{"$error":"#REF!"}},{"$error":"#REF!"}]
[{"$f":"CONCATENATE(LEFT(#REF!,7),\"N\",LEFT(#REF!,7),\"E\")","v":{"$error":"#REF!"}},{"$error":"#REF!"}]
[{"$f":"CONCATENATE(LEFT(#REF!,7),\"N\",LEFT(#REF!,7),\"E\")","v":{"$error":"#REF!"}},{"$error":"#REF!"}]
[{"$f":"CONCATENATE(LEFT(#REF!,7),\"N\",LEFT(#REF!,7),\"E\")","v":{"$error":"#REF!"}},{"$error":"#REF!"}]
[{"$f":"CONCATENATE(LEFT(#REF!,7),\"N\",LEFT(#REF!,7),\"E\")","v":{"$error":"#REF!"}},{"$error":"#REF!"}]
[{"$f":"CONCATENATE(LEFT(#REF!,7),\"N\",LEFT(#REF!,7),\"E\")","v":{"$error":"#REF!"}},{"$error":"#REF!"}]
[{"$f":"CONCATENATE(LEFT(#REF!,7),\"N\",LEFT(#REF!,7),\"E\")","v":{"$error":"#REF!"}},{"$error":"#REF!"}]
[{"$f":"CONCATENATE(LEFT(#REF!,7),\"N\",LEFT(#REF!,7),\"E\")","v":{"$error":"#REF!"}},{"$error":"#REF!"}]
[{"$f":"CONCATENATE(LEFT(#REF!,7),\"N\",LEFT(#REF!,7),\"E\")","v":{"$error":"#REF!"}},{"$error":"#REF!"}]
[{"$f":"CONCATENATE(LEFT(#REF!,7),\"N\",LEFT(#REF!,7),\"E\")","v":{"$error":"#REF!"}},{"$error":"#REF!"}]
[{"$f":"CONCATENATE(LEFT(#REF!,7),\"N\",LEFT(#REF!,7),\"E\")","v":{"$error":"#REF!"}},{"$error":"#REF!"}]
[{"$f":"CONCATENATE(LEFT(#REF!,7),\"N\",LEFT(#REF!,7),\"E\")","v":{"$error":"#REF!"}},{"$f":"IF(A386=\"NE\",\" \",IF(COUNTIF(A:A,A386)>1,\"Match\",\"Clear\"))","v":{"$error":"#REF!"}}]
[{"$f":"CONCATENATE(LEFT(#REF!,7),\"N\",LEFT(#REF!,7),\"E\")","v":{"$error":"#REF!"}},{"$error":"#REF!"}]
[{"$f":"CONCATENATE(LEFT(#REF!,7),\"N\",LEFT(#REF!,7),\"E\")","v":{"$error":"#REF!"}},{"$error":"#REF!"}]
[{"$f":"CONCATENATE(LEFT(#REF!,7),\"N\",LEFT(#REF!,7),\"E\")","v":{"$error":"#REF!"}},{"$error":"#REF!"}]
[{"$f":"CONCATENATE(LEFT(#REF!,7),\"N\",LEFT(#REF!,7),\"E\")","v":{"$error":"#REF!"}},{"$error":"#REF!"}]
[{"$f":"CONCATENATE(LEFT(#REF!,7),\"N\",LEFT(#REF!,7),\"E\")","v":{"$error":"#REF!"}},{"$error":"#REF!"}]
[{"$f":"CONCATENATE(LEFT(#REF!,7),\"N\",LEFT(#REF!,7),\"E\")","v":{"$error":"#REF!"}},{"$error":"#REF!"}]
[{"$f":"CONCATENATE(LEFT(#REF!,7),\"N\",LEFT(#REF!,7),\"E\")","v":{"$error":"#REF!"}},{"$error":"#REF!"}]
[{"$f":"CONCATENATE(LEFT(#REF!,7),\"N\",LEFT(#REF!,7),\"E\")","v":{"$error":"#REF!"}},{"$error":"#REF!"}]
[{"$f":"CONCATENATE(LEFT(#REF!,7),\"N\",LEFT(#REF!,7),\"E\")","v":{"$error":"#REF!"}},{"$error":"#REF!"}]
[{"$f":"CONCATENATE(LEFT(#REF!,7),\"N\",LEFT(#REF!,7),\"E\")","v":{"$error":"#REF!"}},{"$error":"#REF!"}]
[{"$f":"CONCATENATE(LEFT(#REF!,7),\"N\",LEFT(#REF!,7),\"E\")","v":{"$error":"#REF!"}},{"$error":"#REF!"}]
[{"$f":"CONCATENATE(LEFT(#REF!,7),\"N\",LEFT(#REF!,7),\"E\")","v":{"$error":"#REF!"}},{"$error":"#REF!"}]
[{"$f":"CONCATENATE(LEFT(#REF!,7),\"N\",LEFT(#REF!,7),\"E\")","v":{"$error":"#REF!"}},{"$error":"#REF!"}]
[{"$f":"CONCATENATE(LEFT(#REF!,7),\"N\",LEFT(#REF!,7),\"E\")","v":{"$error":"#REF!"}},{"$error":"#REF!"}]
[{"$f":"CONCATENATE(LEFT(#REF!,7),\"N\",LEFT(#REF!,7),\"E\")","v":{"$error":"#REF!"}},{"$error":"#REF!"}]
[{"$f":"CONCATENATE(LEFT(#REF!,7),\"N\",LEFT(#REF!,7),\"E\")","v":{"$error":"#REF!"}},{"$error":"#REF!"}]
[{"$f":"CONCATENATE(LEFT(#REF!,7),\"N\",LEFT(#REF!,7),\"E\")","v":{"$error":"#REF!"}},{"$error":"#REF!"}]
[{"$f":"CONCATENATE(LEFT(#REF!,7),\"N\",LEFT(#REF!,7),\"E\")","v":{"$error":"#REF!"}},{"$error":"#REF!"}]
[{"$f":"CONCATENATE(LEFT(#REF!,7),\"N\",LEFT(#REF!,7),\"E\")","v":{"$error":"#REF!"}},{"$error":"#REF!"}]
[{"$f":"CONCATENATE(LEFT(#REF!,7),\"N\",LEFT(#REF!,7),\"E\")","v":{"$error":"#REF!"}},{"$error":"#REF!"}]
[{"$f":"CONCATENATE(LEFT(#REF!,7),\"N\",LEFT(#REF!,7),\"E\")","v":{"$error":"#REF!"}},{"$error":"#REF!"}]
[{"$f":"CONCATENATE(LEFT(#REF!,7),\"N\",LEFT(#REF!,7),\"E\")","v":{"$error":"#REF!"}},{"$error":"#REF!"}]
[{"$f":"CONCATENATE(LEFT(#REF!,7),\"N\",LEFT(#REF!,7),\"E\")","v":{"$error":"#REF!"}},{"$error":"#REF!"}]
[{"$f":"CONCATENATE(LEFT(#REF!,7),\"N\",LEFT(#REF!,7),\"E\")","v":{"$error":"#REF!"}},{"$error":"#REF!"}]
[{"$f":"CONCATENATE(LEFT(#REF!,7),\"N\",LEFT(#REF!,7),\"E\")","v":{"$error":"#REF!"}},{"$error":"#REF!"}]
[{"$f":"CONCATENATE(LEFT(#REF!,7),\"N\",LEFT(#REF!,7),\"E\")","v":{"$error":"#REF!"}},{"$error":"#REF!"}]
[{"$f":"CONCATENATE(LEFT(#REF!,7),\"N\",LEFT(#REF!,7),\"E\")","v":{"$error":"#REF!"}},{"$error":"#REF!"}]
[{"$f":"CONCATENATE(LEFT(#REF!,7),\"N\",LEFT(#REF!,7),\"E\")","v":{"$error":"#REF!"}},{"$error":"#REF!"}]
[{"$f":"CONCATENATE(LEFT(#REF!,7),\"N\",LEFT(#REF!,7),\"E\")","v":{"$error":"#REF!"}},{"$error":"#REF!"}]
[{"$f":"CONCATENATE(LEFT(#REF!,7),\"N\",LEFT(#REF!,7),\"E\")","v":{"$error":"#REF!"}},{"$error":"#REF!"}]
[{"$f":"CONCATENATE(LEFT(#REF!,7),\"N\",LEFT(#REF!,7),\"E\")","v":{"$error":"#REF!"}},{"$error":"#REF!"}]
[{"$f":"CONCATENATE(LEFT(#REF!,7),\"N\",LEFT(#REF!,7),\"E\")","v":{"$error":"#REF!"}},{"$error":"#REF!"}]
[{"$f":"CONCATENATE(LEFT(#REF!,7),\"N\",LEFT(#REF!,7),\"E\")","v":{"$error":"#REF!"}},{"$error":"#REF!"}]
[{"$f":"CONCATENATE(LEFT(#REF!,7),\"N\",LEFT(#REF!,7),\"E\")","v":{"$error":"#REF!"}},{"$error":"#REF!"}]
[{"$f":"CONCATENATE(LEFT(#REF!,7),\"N\",LEFT(#REF!,7),\"E\")","v":{"$error":"#REF!"}},{"$error":"#REF!"}]
[{"$f":"CONCATENATE(LEFT(#REF!,7),\"N\",LEFT(#REF!,7),\"E\")","v":{"$error":"#REF!"}},{"$error":"#REF!"}]
[{"$f":"CONCATENATE(LEFT(#REF!,7),\"N\",LEFT(#REF!,7),\"E\")","v":{"$error":"#REF!"}},{"$error":"#REF!"}]
[{"$f":"CONCATENATE(LEFT(#REF!,7),\"N\",LEFT(#REF!,7),\"E\")","v":{"$error":"#REF!"}},{"$error":"#REF!"}]
[{"$f":"CONCATENATE(LEFT(#REF!,7),\"N\",LEFT(#REF!,7),\"E\")","v":{"$error":"#REF!"}},{"$error":"#REF!"}]
[{"$f":"CONCATENATE(LEFT(#REF!,7),\"N\",LEFT(#REF!,7),\"E\")","v":{"$error":"#REF!"}},{"$error":"#REF!"}]
[{"$f":"CONCATENATE(LEFT(#REF!,7),\"N\",LEFT(#REF!,7),\"E\")","v":{"$error":"#REF!"}},{"$error":"#REF!"}]
[{"$f":"CONCATENATE(LEFT(#REF!,7),\"N\",LEFT(#REF!,7),\"E\")","v":{"$error":"#REF!"}},{"$error":"#REF!"}]
[{"$f":"CONCATENATE(LEFT(#REF!,7),\"N\",LEFT(#REF!,7),\"E\")","v":{"$error":"#REF!"}},{"$error":"#REF!"}]
[{"$f":"CONCATENATE(LEFT(#REF!,7),\"N\",LEFT(#REF!,7),\"E\")","v":{"$error":"#REF!"}},{"$error":"#REF!"}]
[{"$f":"CONCATENATE(LEFT(#REF!,7),\"N\",LEFT(#REF!,7),\"E\")","v":{"$error":"#REF!"}},{"$error":"#REF!"}]
[{"$f":"CONCATENATE(LEFT(#REF!,7),\"N\",LEFT(#REF!,7),\"E\")","v":{"$error":"#REF!"}},{"$error":"#REF!"}]
[{"$f":"CONCATENATE(LEFT(#REF!,7),\"N\",LEFT(#REF!,7),\"E\")","v":{"$error":"#REF!"}},{"$error":"#REF!"}]
[{"$f":"CONCATENATE(LEFT(#REF!,7),\"N\",LEFT(#REF!,7),\"E\")","v":{"$error":"#REF!"}},{"$error":"#REF!"}]
[{"$f":"CONCATENATE(LEFT(#REF!,7),\"N\",LEFT(#REF!,7),\"E\")","v":{"$error":"#REF!"}},{"$error":"#REF!"}]
[{"$f":"CONCATENATE(LEFT(#REF!,7),\"N\",LEFT(#REF!,7),\"E\")","v":{"$error":"#REF!"}},{"$error":"#REF!"}]
[{"$f":"CONCATENATE(LEFT(#REF!,7),\"N\",LEFT(#REF!,7),\"E\")","v":{"$error":"#REF!"}},{"$error":"#REF!"}]
[{"$f":"CONCATENATE(LEFT(#REF!,7),\"N\",LEFT(#REF!,7),\"E\")","v":{"$error":"#REF!"}},{"$error":"#REF!"}]
[{"$f":"CONCATENATE(LEFT(#REF!,7),\"N\",LEFT(#REF!,7),\"E\")","v":{"$error":"#REF!"}},{"$error":"#REF!"}]
[{"$f":"CONCATENATE(LEFT(#REF!,7),\"N\",LEFT(#REF!,7),\"E\")","v":{"$error":"#REF!"}},{"$error":"#REF!"}]
[{"$f":"CONCATENATE(LEFT(#REF!,7),\"N\",LEFT(#REF!,7),\"E\")","v":{"$error":"#REF!"}},{"$error":"#REF!"}]
[{"$f":"CONCATENATE(LEFT(#REF!,7),\"N\",LEFT(#REF!,7),\"E\")","v":{"$error":"#REF!"}},{"$error":"#REF!"}]
[{"$f":"CONCATENATE(LEFT(#REF!,7),\"N\",LEFT(#REF!,7),\"E\")","v":{"$error":"#REF!"}},{"$error":"#REF!"}]
[{"$f":"CONCATENATE(LEFT(#REF!,7),\"N\",LEFT(#REF!,7),\"E\")","v":{"$error":"#REF!"}},{"$error":"#REF!"}]
[{"$f":"CONCATENATE(LEFT(#REF!,7),\"N\",LEFT(#REF!,7),\"E\")","v":{"$error":"#REF!"}},{"$error":"#REF!"}]
[{"$f":"CONCATENATE(LEFT(#REF!,7),\"N\",LEFT(#REF!,7),\"E\")","v":{"$error":"#REF!"}},{"$error":"#REF!"}]
[{"$f":"CONCATENATE(LEFT(#REF!,7),\"N\",LEFT(#REF!,7),\"E\")","v":{"$error":"#REF!"}},{"$error":"#REF!"}]
[{"$f":"CONCATENATE(LEFT(#REF!,7),\"N\",LEFT(#REF!,7),\"E\")","v":{"$error":"#REF!"}},{"$error":"#REF!"}]
[{"$f":"CONCATENATE(LEFT(#REF!,7),\"N\",LEFT(#REF!,7),\"E\")","v":{"$error":"#REF!"}},{"$error":"#REF!"}]
[{"$f":"CONCATENATE(LEFT(#REF!,7),\"N\",LEFT(#REF!,7),\"E\")","v":{"$error":"#REF!"}},{"$f":"IF(A450=\"NE\",\" \",IF(COUNTIF(A:A,A450)>1,\"Match\",\"Clear\"))","v":{"$error":"#REF!"}}]
[{"$f":"CONCATENATE(LEFT(#REF!,7),\"N\",LEFT(#REF!,7),\"E\")","v":{"$error":"#REF!"}},{"$error":"#REF!"}]
[{"$f":"CONCATENATE(LEFT(#REF!,7),\"N\",LEFT(#REF!,7),\"E\")","v":{"$error":"#REF!"}},{"$error":"#REF!"}]
[{"$f":"CONCATENATE(LEFT(#REF!,7),\"N\",LEFT(#REF!,7),\"E\")","v":{"$error":"#REF!"}},{"$error":"#REF!"}]
[{"$f":"CONCATENATE(LEFT(#REF!,7),\"N\",LEFT(#REF!,7),\"E\")","v":{"$error":"#REF!"}},{"$error":"#REF!"}]
[{"$f":"CONCATENATE(LEFT(#REF!,7),\"N\",LEFT(#REF!,7),\"E\")","v":{"$error":"#REF!"}},{"$error":"#REF!"}]
[{"$f":"CONCATENATE(LEFT(#REF!,7),\"N\",LEFT(#REF!,7),\"E\")","v":{"$error":"#REF!"}},{"$error":"#REF!"}]
[{"$f":"CONCATENATE(LEFT(#REF!,7),\"N\",LEFT(#REF!,7),\"E\")","v":{"$error":"#REF!"}},{"$error":"#REF!"}]
[{"$f":"CONCATENATE(LEFT(#REF!,7),\"N\",LEFT(#REF!,7),\"E\")","v":{"$error":"#REF!"}},{"$error":"#REF!"}]
[{"$f":"CONCATENATE(LEFT(#REF!,7),\"N\",LEFT(#REF!,7),\"E\")","v":{"$error":"#REF!"}},{"$error":"#REF!"}]
[{"$f":"CONCATENATE(LEFT(#REF!,7),\"N\",LEFT(#REF!,7),\"E\")","v":{"$error":"#REF!"}},{"$error":"#REF!"}]
[{"$f":"CONCATENATE(LEFT(#REF!,7),\"N\",LEFT(#REF!,7),\"E\")","v":{"$error":"#REF!"}},{"$error":"#REF!"}]
[{"$f":"CONCATENATE(LEFT(#REF!,7),\"N\",LEFT(#REF!,7),\"E\")","v":{"$error":"#REF!"}},{"$error":"#REF!"}]
[{"$f":"CONCATENATE(LEFT(#REF!,7),\"N\",LEFT(#REF!,7),\"E\")","v":{"$error":"#REF!"}},{"$error":"#REF!"}]
[{"$f":"CONCATENATE(LEFT(#REF!,7),\"N\",LEFT(#REF!,7),\"E\")","v":{"$error":"#REF!"}},{"$error":"#REF!"}]
[{"$f":"CONCATENATE(LEFT(#REF!,7),\"N\",LEFT(#REF!,7),\"E\")","v":{"$error":"#REF!"}},{"$error":"#REF!"}]
[{"$f":"CONCATENATE(LEFT(#REF!,7),\"N\",LEFT(#REF!,7),\"E\")","v":{"$error":"#REF!"}},{"$error":"#REF!"}]
[{"$f":"CONCATENATE(LEFT(#REF!,7),\"N\",LEFT(#REF!,7),\"E\")","v":{"$error":"#REF!"}},{"$error":"#REF!"}]
[{"$f":"CONCATENATE(LEFT(#REF!,7),\"N\",LEFT(#REF!,7),\"E\")","v":{"$error":"#REF!"}},{"$error":"#REF!"}]
[{"$f":"CONCATENATE(LEFT(#REF!,7),\"N\",LEFT(#REF!,7),\"E\")","v":{"$error":"#REF!"}},{"$error":"#REF!"}]
[{"$f":"CONCATENATE(LEFT(#REF!,7),\"N\",LEFT(#REF!,7),\"E\")","v":{"$error":"#REF!"}},{"$error":"#REF!"}]
[{"$f":"CONCATENATE(LEFT(#REF!,7),\"N\",LEFT(#REF!,7),\"E\")","v":{"$error":"#REF!"}},{"$error":"#REF!"}]
[{"$f":"CONCATENATE(LEFT(#REF!,7),\"N\",LEFT(#REF!,7),\"E\")","v":{"$error":"#REF!"}},{"$error":"#REF!"}]
[{"$f":"CONCATENATE(LEFT(#REF!,7),\"N\",LEFT(#REF!,7),\"E\")","v":{"$error":"#REF!"}},{"$error":"#REF!"}]
[{"$f":"CONCATENATE(LEFT(#REF!,7),\"N\",LEFT(#REF!,7),\"E\")","v":{"$error":"#REF!"}},{"$error":"#REF!"}]
[{"$f":"CONCATENATE(LEFT(#REF!,7),\"N\",LEFT(#REF!,7),\"E\")","v":{"$error":"#REF!"}},{"$error":"#REF!"}]
[{"$f":"CONCATENATE(LEFT(#REF!,7),\"N\",LEFT(#REF!,7),\"E\")","v":{"$error":"#REF!"}},{"$error":"#REF!"}]
[{"$f":"CONCATENATE(LEFT(#REF!,7),\"N\",LEFT(#REF!,7),\"E\")","v":{"$error":"#REF!"}},{"$error":"#REF!"}]
[{"$f":"CONCATENATE(LEFT(#REF!,7),\"N\",LEFT(#REF!,7),\"E\")","v":{"$error":"#REF!"}},{"$error":"#REF!"}]
[{"$f":"CONCATENATE(LEFT(#REF!,7),\"N\",LEFT(#REF!,7),\"E\")","v":{"$error":"#REF!"}},{"$error":"#REF!"}]
[{"$f":"CONCATENATE(LEFT(#REF!,7),\"N\",LEFT(#REF!,7),\"E\")","v":{"$error":"#REF!"}},{"$error":"#REF!"}]
[{"$f":"CONCATENATE(LEFT(#REF!,7),\"N\",LEFT(#REF!,7),\"E\")","v":{"$error":"#REF!"}},{"$error":"#REF!"}]
[{"$f":"CONCATENATE(LEFT(#REF!,7),\"N\",LEFT(#REF!,7),\"E\")","v":{"$error":"#REF!"}},{"$error":"#REF!"}]
[{"$f":"CONCATENATE(LEFT(#REF!,7),\"N\",LEFT(#REF!,7),\"E\")","v":{"$error":"#REF!"}},{"$error":"#REF!"}]
[{"$f":"CONCATENATE(LEFT(#REF!,7),\"N\",LEFT(#REF!,7),\"E\")","v":{"$error":"#REF!"}},{"$error":"#REF!"}]
[{"$f":"CONCATENATE(LEFT(#REF!,7),\"N\",LEFT(#REF!,7),\"E\")","v":{"$error":"#REF!"}},{"$error":"#REF!"}]
[{"$f":"CONCATENATE(LEFT(#REF!,7),\"N\",LEFT(#REF!,7),\"E\")","v":{"$error":"#REF!"}},{"$error":"#REF!"}]
[{"$f":"CONCATENATE(LEFT(#REF!,7),\"N\",LEFT(#REF!,7),\"E\")","v":{"$error":"#REF!"}},{"$error":"#REF!"}]
[{"$f":"CONCATENATE(LEFT(#REF!,7),\"N\",LEFT(#REF!,7),\"E\")","v":{"$error":"#REF!"}},{"$error":"#REF!"}]
[{"$f":"CONCATENATE(LEFT(#REF!,7),\"N\",LEFT(#REF!,7),\"E\")","v":{"$error":"#REF!"}},{"$error":"#REF!"}]
[{"$f":"CONCATENATE(LEFT(#REF!,7),\"N\",LEFT(#REF!,7),\"E\")","v":{"$error":"#REF!"}},{"$error":"#REF!"}]
[{"$f":"CONCATENATE(LEFT(#REF!,7),\"N\",LEFT(#REF!,7),\"E\")","v":{"$error":"#REF!"}},{"$error":"#REF!"}]
[{"$f":"CONCATENATE(LEFT(#REF!,7),\"N\",LEFT(#REF!,7),\"E\")","v":{"$error":"#REF!"}},{"$error":"#REF!"}]
[{"$f":"CONCATENATE(LEFT(#REF!,7),\"N\",LEFT(#REF!,7),\"E\")","v":{"$error":"#REF!"}},{"$error":"#REF!"}]
[{"$f":"CONCATENATE(LEFT(#REF!,7),\"N\",LEFT(#REF!,7),\"E\")","v":{"$error":"#REF!"}},{"$error":"#REF!"}]
[{"$f":"CONCATENATE(LEFT(#REF!,7),\"N\",LEFT(#REF!,7),\"E\")","v":{"$error":"#REF!"}},{"$error":"#REF!"}]
[{"$f":"CONCATENATE(LEFT(#REF!,7),\"N\",LEFT(#REF!,7),\"E\")","v":{"$error":"#REF!"}},{"$error":"#REF!"}]
[{"$f":"CONCATENATE(LEFT(#REF!,7),\"N\",LEFT(#REF!,7),\"E\")","v":{"$error":"#REF!"}},{"$error":"#REF!"}]
[{"$f":"CONCATENATE(LEFT(#REF!,7),\"N\",LEFT(#REF!,7),\"E\")","v":{"$error":"#REF!"}},{"$error":"#REF!"}]
[{"$f":"CONCATENATE(LEFT(#REF!,7),\"N\",LEFT(#REF!,7),\"E\")","v":{"$error":"#REF!"}},{"$error":"#REF!"}]
[{"$f":"CONCATENATE(LEFT(#REF!,7),\"N\",LEFT(#REF!,7),\"E\")","v":{"$error":"#REF!"}},{"$error":"#REF!"}]
[{"$f":"CONCATENATE(LEFT(#REF!,7),\"N\",LEFT(#REF!,7),\"E\")","v":{"$error":"#REF!"}},{"$error":"#REF!"}]
[{"$f":"CONCATENATE(LEFT(#REF!,7),\"N\",LEFT(#REF!,7),\"E\")","v":{"$error":"#REF!"}},{"$error":"#REF!"}]
[{"$f":"CONCATENATE(LEFT(#REF!,7),\"N\",LEFT(#REF!,7),\"E\")","v":{"$error":"#REF!"}},{"$error":"#REF!"}]
[{"$f":"CONCATENATE(LEFT(#REF!,7),\"N\",LEFT(#REF!,7),\"E\")","v":{"$error":"#REF!"}},{"$error":"#REF!"}]
[{"$f":"CONCATENATE(LEFT(#REF!,7),\"N\",LEFT(#REF!,7),\"E\")","v":{"$error":"#REF!"}},{"$error":"#REF!"}]
[{"$f":"CONCATENATE(LEFT(#REF!,7),\"N\",LEFT(#REF!,7),\"E\")","v":{"$error":"#REF!"}},{"$error":"#REF!"}]
[{"$f":"CONCATENATE(LEFT(#REF!,7),\"N\",LEFT(#REF!,7),\"E\")","v":{"$error":"#REF!"}},{"$error":"#REF!"}]
[{"$f":"CONCATENATE(LEFT(#REF!,7),\"N\",LEFT(#REF!,7),\"E\")","v":{"$error":"#REF!"}},{"$error":"#REF!"}]

{"sheet":"Dropdown2","index":3,"n_rows":18,"n_cols":13,"rows_kept":18,"cut":false,"hidden":true,"merged":[]}
["DamageCategory","AssessmentStatus","Project data",null,"Project data","Yes/No","Repair",null,null,"Sector",null,null,"SDGs"]
["0 - None","Planned","Project data for areas",null,"Assessment","Yes","Minimum repair standard",null,null,"Electricity ",null,null,"SDG-1"]
["1 - Minor","Ongoing","Individual housing point",null,"Rehabilitation","No","Whole house",null,null,"Water and Sewege",null,null,"SDG-2"]
["2 - Major","Completed",null,null,"New construction / transitional shelter",null,null,null,null,"Transportation ",null,null,"SDG-3"]
["3 - Severe",null,null,null,"Cash for Shelter",null,null,null,null,"Municipality ",null,null,"SDG-4"]
["4- Destroyed",null,null,null,null,null,null,null,null,"Health ",null,null,"SDG-5"]
["Not assessed",null,null,null,null,null,null,null,null,"Education ",null,null,"SDG-6"]
[null,null,null,null,null,null,null,null,null,"Housing",null,null,"SDG-7"]
[null,null,null,null,null,null,null,null,null,"Other",null,null,"SDG-8"]
[null,null,null,null,null,null,null,null,null,null,null,null,"SDG-9"]
[null,null,null,null,null,null,null,null,null,null,null,null,"SDG-10"]
[null,null,null,null,null,null,null,null,null,null,null,null,"SDG-11"]
[null,null,null,null,null,null,null,null,null,null,null,null,"SDG-12"]
[null,null,null,null,null,null,null,null,null,null,null,null,"SDG-13"]
[null,null,null,null,null,null,null,null,null,null,null,null,"SDG-14"]
[null,null,null,null,null,null,null,null,null,null,null,null,"SDG-15"]
[null,null,null,null,null,null,null,null,null,null,null,null,"SDG-16"]
[null,null,null,null,null,null,null,null,null,null,null,null,"SDG-17"]

{"sheet":"DropdownGov","index":4,"n_rows":19,"n_cols":128,"rows_kept":19,"cut":false,"hidden":true,"merged":[]}
["IOMGov","Anbar","Babylon","Baghdad","Basrah","Dohuk","Diyala","Erbil","Kerbala","Kirkuk","Missan","Muthanna","Najaf","Ninewa","Qadissiya","Salah_al_Din","Sulaymaniyah","Thi-Qar","Wassit","Al_Ka_im","Al_Rutba","Ana","Falluja","Haditha","Heet","Ramadi","Ra_ua","Al_Mahawil","Al_Musayab","Hashimiya","Hilla","Abu_Ghraib","Adhamia","Al_Resafa","Kadhimia","Karkh","Mada'in","Mahmoudiya","Tarmia","Thawra1","Thawra2","Abu_Al_Khaseeb","Al_Midaina","Al_Qurna","Al_Zubair","Basrah.","Fao","Shatt_Al_Arab","Amedi","Dahuk","Sumel","Zakho","Al_Khalis","Al_Muqdadiya","Baladrooz","Ba_quba","Khanaqin","Kifri","Choman","Erbil.","Koisnjaq","Mergasur","Shaqlawa","Soran","Makhmur","Ain_Al_Tamur","Al_Hindiya","Kerbala.","Al_Hawiga","Dabes","Daquq","Kirkuk.","Ali_Al_Gharbi","Al_Kahla","Al_Maimouna","Al_Mejar_Al_Kabir","Amara","Qalat_Saleh","Al_Khidhir","Al_Rumaitha","Al_Samawa","Salman","Al_Manathera","Kufa","Najaf.","Akre","Al_Hamdaniya","Al_Shikhan","Hatra","Mosul","Sinjar","Telafar","Tilkaif","Baaj","Afaq","Al_Shamiya","Diwaniya","Hamza","Al_Fares","Al_Shirqat","Baiji","Balad","Samarra","Tikrit","Tooz","Daur","Thethar","Chamchamal","Darbandokeh","Dukan","Kalar","Halabja","Penjwen","Pshdar","Ranya","Sharbazher","Sulaymaniyah."," Al_Chibayish"," Al_Rifai"," Shatrah"," Nasiriyah"," Suq_AlShuykh"," Al_Aziziyah"," Badra"," Al_Hai"," Kut"," Numaniyah"," Suwaira"]
["Anbar","Al_Ka_im","Al_Mahawil","Abu_Ghraib","Abu_Al_Khaseeb","Amedi","Al_Khalis","Choman","Ain_Al_Tamur","Al_Hawiga","Ali _Al_Gharbi","Al_Khidhir","Al_Manathera","Akre","Afaq","Al_Fares","Chamchamal"," Al_Chibayish"," Al_Aziziyah","Al Obiadi","Al Nakhaeh","Markaz Ana","Markaz Al Falluja","Barwana","Al Forat","Markaz Al Ramadi","Rawa","Al Iskandaria","Jurf Al Sakhar","Al Shomaly","Al Kifil","That al Salasil","Al Fahama","Baghdad Al Jedeede","Markaz Al Kadhimiya","Al Mansour","Al Wihda","Al Mamoon","Al Tarmiya","Markaz Thawra","Thawra2","Markaz Abu al Khaseeb","Markaz Al Midaina","Talha","Um Qasr","Al Hartha","Al Bahhar","Outba","Sarsink","Zawita","Fayde","Al Kali","Markaz Al Khalis","Bani Sa'd","Qazanya","Hubhub","Khanakin","Al Atheem","Haji Omaran","Markaz Erbil Centre","Taq Taq","Barzan","Shaqlawa","Rawanduz","Sargaran (Al Quds)","Markaz Ain Al Tamur","Al Hassainya","Markaz Kerbela","Al Hawija","Markaz Dibis","Taza Khurmatu","Yaychi","Ali Al Sharki","Al Rafeai","Al Salam","Al Adel","Al Msharah","Al Aziz","Markaz Al Khidhir","Al Najmi","Al Majd Nahia","Markaz Al Salman","Al Heera","Al Huriya","Al Haydariya","Markaz Akre","Bartalla","Qasrouk","Hatra","Mosul City","Al Qahtaniya","Zummar","Wanna","Markaz Al Ba'aj","Al Bdair","Ghammas","Sumer","Al Sadeer","Al Dujeel","Markaz Al Shirqat","Baiji","Yathreb","Al Tharthar","Tikrit","Suleiman Beg","Al Moatassem","Al Esshaqi","Sangaw","Markaz Darbandihkan","Surdash","Tilako","Shahrazur","Garmik","Hero","Ranya","Siwail","Sulaymaniyah","Al Hammer","Al Nasr","Al Dawaya","Said Dekhil","Al Fhood","Al Hafriya","Jassan","Al Mowafaqiya","Wasit","Al Ahrar","Al Zubaidiya"]
["Babylon","Al_Rutba","Al_Musayab","Adhamia","Al_Midaina","Dahuk","Al_Muqdadiya","Erbil.","Al_Hindiya","Dabes","Al_Kahla","Al_Rumaitha","Kufa","Al_Hamdaniya","Al_Shamiya","Al_Shirqat","Darbandokeh"," Al_Rifai"," Badra","Al Karabla","Al Rahhaliya",null,"Al Garma","Al Haqlaniya","Al Baghdady","Al Habbaniya",null,"Al Madhatiya",null,"Al Qasim","Al Jadwal Al Ghrabi","Abu Ghraib","Markaz Al Adhamiya",null,"Al Taji","Al Karrada Al Sharqia","Al Jisr","Al Yousifya",null,null,null,"Al Siba","Al Howweir","Al Nashwa","Safwan","Markaz Al Basrah","Markaz Al Faw","Markaz Shat Al Arab","Barwari Bala","Markaz Dahuk","Sindi","Al Sindi",null,"Qalaa't Ansab","Kinan",null,"Al Mansouriyah","Jabarra","Balak","Qushtappa","Shorsh","Mergasur","Salah Al Din","Khailfan","Dibaga",null,"Markaz Al Hindiya",null,"Al Abassy","Altun Qupri","Laylan (Qara Hasan)","Rashad","Markaz Ali Al Gharbi","Al Kahla","Markaz Al Maimouna",null,"Al Teeb","Markaz Qalat Saleh",null,"Al Hilal","Al Sowair",null,null,"Markaz Al Kufa","Al Shabaka","Dinartha","Al Namroud","Atroush","Markaz Hatra","Al Muhamadath","Al Shamal","Rubiya","Al Qosh",null,"Al Fawwar",null,"Al Mihanawiya","Al Shinafiya",null,null,"MakkHoul",null,"Markaz Samera'a","Um Al Qura","Al Amerli","Al Duloeyah",null,"Aghjalar",null,"Gnareen","Pebaz","Khurman","Markaz Penjwin","Nawdasht","Betwata","Saruchik","Sarchnar","Markaz Al Chibayish","Al Fajer","Al Gharraf","Al Nasiriya","Al Fadhliya","Al Aziziya","Markaz Badra","Al Bashaer","Shaekh Saad","Markaz Al Noamaniya","Markaz Al Suwaira"]
["Baghdad","Ana","Hashimiya","Al_Resafa","Al_Qurna","Sumel","Baladrooz","Koisnjaq","Kerbala.","Daquq","Al_Maimouna","Al_Samawa","Najaf.","Al_Shikhan","Diwaniya","Baiji","Dukan"," Shatrah"," Al_Hai","Al Rummaneh","Markaz Al Rutba",null,"Al Amirya",null,"Markaz Heet",null,null,"Al Shehamiya",null,null,"Markaz Al Hilla",null,"Al Rashdia",null,null,"Markaz Al Karkh","Markaz Al Mada'in","Al Latifya",null,null,null,null,null,"Al Dair","Markaz Al Zubair",null,null,null,"Markaz Ali Al Amedi","Al Duski","Al Selvani","Markaz Zakho",null,"Markaz Al Muqdadiya","Mandali",null,"Jalula","Qara Tabe",null,null,"Markaz Koysinjaq","Mazouri Bala","Khoshnaw","Diana","Gwyer",null,null,null,"Al Zab",null,"Qara Hanjeer","Schwan",null,null,null,null,"Kumait",null,null,"Al Warka",null,null,null,null,"Markaz Al Najaf","Bjeel","Baashiqa","Markaz Sheikhan",null,"Al Qayara","Markaz Sinjar","Ayadiya","Markaz Tilkaef",null,"Markaz Afaq",null,"Al Daghara","Markaz Al Hamza",null,null,"Al Siniya",null,null,"Al Alam","Hamreen","Abu Dalf",null,"Qadir Karam",null,"Mirka","Markaz Kalar","Biyara",null,"Markaz Pshdar",null,"Mawat","Bazyan",null,"Qalat Siker","Markaz Al Shatra","Al Islah","Akaika",null,null,null,"Shaekh Saad"]
["Basrah","Falluja","Hilla","Kadhimia","Al_Zubair","Zakho","Ba_quba","Mergasur",null,"Kirkuk.","Al_Mejar_Al_Kabir","Salman",null,"Hatra","Hamza","Balad","Kalar"," Nasiriyah"," Kut",null,"Al Walid",null,null,null,"Kubaisa",null,null,"Al Emam",null,null,"Abu Gharaq",null,null,null,null,null,null,"Al Rasheed",null,null,null,null,null,"Markaz Al Qurna",null,null,null,null,"Nerwa Rekan",null,"Markaz Sumel",null,null,null,"Al wajeheyeh",null,"As Saadia","Markaz Kifri",null,null,null,null,"Harir","Bradost","Qaraj",null,null,null,"Al Riyad",null,"Markaz Daquq","Al Multaqa",null,null,null,null,null,null,null,"Markaz Al Rumaitha",null,null,null,null,null,"Gerdaseen","Markaz Al Hamdaniya",null,null,"Hamam al Aleel","Qaeyrrawan","Markaz Tal Afar",null,null,null,null,"Al Shafeia",null,null,null,"Markaz Baiji",null,null,"Dijla","Markaz Tuz",null,null,"Markaz Chamchamal",null,null,null,"Markaz Halabja",null,null,null,"Markaz Sharbazher","Qaradagh",null,"Markaz Al Rifaai",null,"Al Battha'a","Garmat Beni Said",null,null,null,"Markaz Al Kut"]
["Dohuk","Haditha",null,"Karkh","Basrah.",null,"Khanaqin","Shaqlawa",null,null,"Amara",null,null,"Mosul",null,"Samarra","Halabja"," Suq_AlShuykh"," Numaniyah",null,null,null,null,null,null,null,null,"Al Mashroo",null,null,null,null,null,null,null,null,null,"Markaz Mahmudiya",null,null,null,null,null,"Al Thagar Nahia",null,null,null,null,null,null,null,null,null,null,"Bahraz",null,"Midan",null,null,null,null,null,null,null,"Markaz Makhmour",null,null,null,null,null,null,"Markaz Kirkuk",null,null,null,null,null,null,null,null,null,null,null,null,null,"Bardarash",null,null,null,null,null,null,null,null,null,null,"Al Saniya",null,null,null,null,null,null,null,null,null,null,null,null,null,null,null,null,null,null,null,null,null,null,null,null,"Al Ttar"]
["Diyala","Heet",null,"Mada_in","Fao",null,"Kifri","Soran",null,null,"Qalat_Saleh",null,null,"Sinjar",null,"Tikrit","Penjwen",null," Suwaira",null,null,null,null,null,null,null,null,"Markaz Al Mahawil",null,null,null,null,null,null,null,null,null,null,null,null,null,null,null,null,null,null,null,null,null,null,null,null,null,null,"Markaz Baladruz",null,"Qaratu",null,null,null,null,null,null,null,null,null,null,null,null,null,null,null,null,null,null,null,null,null,null,null,null,null,null,null,null,null,null,null,null,null,null,null,null,null,null,null,"Markaz Al Diwaniya"]
["Erbil","Ramadi",null,"Mahmoudiya","Shatt_Al_Arab",null,null,"Makhmur",null,null,null,null,null,"Telafar",null,"Tooz","Pshdar",null,null,null,null,null,null,null,null,null,null,null,null,null,null,null,null,null,null,null,null,null,null,null,null,null,null,null,null,null,null,null,null,null,null,null,null,null,null,null,"Markaz Khanaquin"]
["Kerbala","Ra_ua",null,"Tarmia",null,null,null,null,null,null,null,null,null,"Tilkaif",null,"Daur","Ranya"]
["Kirkuk",null,null,"Thawra1",null,null,null,null,null,null,null,null,null,"Baaj",null,"Thethar","Sharbazher"]
["Missan",null,null,"Thawra2",null,null,null,null,null,null,null,null,null,null,null,null,"Sulaymaniyah."]
["Muthanna"]
["Najaf"]
["Ninewa"]
["Qadissiya"]
["Salah_al_Din"]
["Sulaymaniyah"]
["ThiQar"]
["Wassit"]

{"sheet":"IRAQ-Sub-distructs","index":5,"n_rows":321,"n_cols":7,"rows_kept":321,"cut":false,"hidden":true,"merged":[]}
["Governorate Name","District Name","Sub District Name","Location Type","Location Name","Geographic point - Latitude","Geographic point - Longitude"]
["Anbar","Ana","Markaz Ana","Sub District","Markaz Ana",33.970588479500002,41.765449274399998]
["Anbar","Ra'ua","Rawa","Sub District","Rawa",34.734936543099998,41.953463811100001]
["Anbar","Rutba","Al Nakhaeh","Sub District","Al Nakhaeh",32.225135450499998,41.795862639399999]
["Anbar","Rutba","Al Rahhaliya","Sub District","Al Rahhaliya",32.8978293865,43.226819897600002]
["Anbar","Rutba","Markaz Al Rutba","Sub District","Markaz Al Rutba",33.040175357499997,40.616864766600003]
["Anbar","Rutba","Al Walid","Sub District","Al Walid",33.364605479700003,39.538636263599997]
["Anbar","Ka'im","Al Obiadi","Sub District","Al Obiadi",34.194562822999998,41.386286566300001]
["Anbar","Ka'im","Al Karabla","Sub District","Al Karabla",34.064657117300001,40.793481559600004]
["Anbar","Ka'im","Al Rummaneh","Sub District","Al Rummaneh",34.662409199300001,41.321173959200003]
["Anbar","Ramadi","Markaz Al Ramadi","Sub District","Markaz Al Ramadi",33.381335610400001,43.101516365899997]
["Anbar","Ramadi","Al Habbaniya","Sub District","Al Habbaniya",33.3032923946,43.433801675300003]
["Anbar","Falluja","Markaz Al Falluja","Sub District","Markaz Al Falluja",33.3558462453,43.7263189719]
["Anbar","Falluja","Al Garma","Sub District","Al Garma",33.536791034300002,43.897799794199997]
["Anbar","Falluja","Al Amirya","Sub District","Al Amirya",33.002234708000003,43.765701630599999]
["Anbar","Heet","Al Forat","Sub District","Al Forat",33.911433902399999,42.986625245900001]
["Anbar","Heet","Al Baghdady","Sub District","Al Baghdady",33.928993709799997,42.554868342500001]
["Anbar","Heet","Markaz Heet","Sub District","Markaz Heet",33.704737725599998,42.789567919]
["Anbar","Heet","Kubaisa","Sub District","Kubaisa",33.5169950724,42.483630658199999]
["Anbar","Haditha","Barwana","Sub District","Barwana",34.328174059299997,42.490465854599996]
["Anbar","Haditha","Al Haqlaniya","Sub District","Al Haqlaniya",34.039715641699999,42.215209088199998]
[]
["Babylon","Hashimiya","Al Shomaly","Sub District","Al Shomaly",32.360507499599997,44.977268502599998]
["Babylon","Hashimiya","Al Qasim","Sub District","Al Qasim",32.254867558100003,44.677550111400002]
["Babylon","Mahawil","Al Iskandaria","Sub District","Al Iskandaria",32.856249012500001,44.333122373999998]
["Babylon","Mahawil","Al Madhatiya","Sub District","Al Madhatiya",32.4769388056,44.818670213300003]
["Babylon","Mahawil","Al Shehamiya","Sub District","Al Shehamiya",32.7164157972,44.946536399999999]
["Babylon","Mahawil","Al Emam","Sub District","Al Emam",32.612608967900002,44.584449917400001]
["Babylon","Mahawil","Al Mashroo","Sub District","Al Mashroo",32.701693889799998,44.700466944200002]
["Babylon","Mahawil","Markaz Al Mahawil","Sub District","Markaz Al Mahawil",32.622568715900002,44.429695073700003]
["Babylon","Hilla","Al Kifil","Sub District","Al Kifil",32.2843504728,44.433010643400003]
["Babylon","Hilla","Al Jadwal Al Ghrabi","Sub District","Al Jadwal Al Ghrabi",32.499851304099998,44.264254967799999]
["Babylon","Hilla","Markaz Al Hilla","Sub District","Markaz Al Hilla",32.481952777777778,44.484241666666669]
["Babylon","Hilla","Abu Gharaq","Sub District","Abu Gharaq",32.473304029200001,44.352840154600003]
["Babylon","Musayab","Jurf Al Sakhar","Sub District","Jurf Al Sakhar",32.794619710699997,44.230192895199998]
[]
["Baghdad","Abu Ghraib","That al Salasil","Sub District","That al Salasil",33.415539414400001,44.179782794700003]
["Baghdad","Abu Ghraib","Abu Ghraib","Sub District","Abu Ghraib",33.297056277099998,44.092351900499999]
["Baghdad","Karkh","Al Mansour","Sub District","Al Mansour",33.292571019,44.313263881499999]
["Baghdad","Karkh","Al Karrada Al Sharqia","Sub District","Al Karrada Al Sharqia",33.280034117200003,44.452817376100001]
["Baghdad","Karkh","Markaz Al Karkh","Sub District","Markaz Al Karkh",33.318302206399999,44.380396294100002]
["Baghdad","Mahmoudiya","Al Mamoon","Sub District","Al Mamoon",33.1692480898,44.479467523700002]
["Baghdad","Mahmoudiya","Al Yousifya","Sub District","Al Yousifya",33.144895704100001,44.125164625099998]
["Baghdad","Mahmoudiya","Al Latifya","Sub District","Al Latifya",32.954118357900001,44.419120245899997]
["Baghdad","Mahmoudiya","Al Rasheed","Sub District","Al Rasheed",33.131115935899999,44.4086813953]
["Baghdad","Mahmoudiya","Markaz Mahmudiya","Sub District","Markaz Mahmudiya",33.053325756900001,44.368946703399999]
["Baghdad","Kadhimia","Markaz Al Kadhimiya","Sub District","Markaz Al Kadhimiya",33.3614181242,44.323396907700001]
["Baghdad","Kadhimia","Al Taji","Sub District","Al Taji",33.513781386200002,44.229698772799999]
["Baghdad","Mada'in","Al Wihda","Sub District","Al Wihda",33.291000672999999,44.746374644600003]
["Baghdad","Mada'in","Al Jisr","Sub District","Al Jisr",33.270656906299998,44.554336938600002]
["Baghdad","Mada'in","Markaz Al Mada'in","Sub District","Markaz Al Mada'in",33.095925080199997,44.638443883599997]
["Baghdad","Adhamia","Al Fahama","Sub District","Al Fahama",33.443187201900002,44.384482610799999]
["Baghdad","Adhamia","Markaz Al Adhamiya","Sub District","Markaz Al Adhamiya",33.376355235200002,44.389463229900002]
["Baghdad","Adhamia","Al Rashdia","Sub District","Al Rashdia",33.546963633600001,44.379268265599997]
["Baghdad","Resafa","Baghdad Al Jedeede","Sub District","Baghdad Al Jedeede",33.345366445499998,44.511361720399996]
["Baghdad","Tarmia","Al Tarmiya","Sub District","Al Tarmiya",33.660579540400001,44.269562532899997]
["Baghdad","Thawra1","Markaz Thawra","Sub District","Markaz Thawra",33.384309099900001,44.462064516799998]
[]
["Basrah","Zubair","Um Qasr","Sub District","Um Qasr",30.128309908799999,47.846032765399997]
["Basrah","Zubair","Safwan","Sub District","Safwan",30.0911889174,46.958746942499999]
["Basrah","Zubair","Markaz Al Zubair","Sub District","Markaz Al Zubair",30.414048643800001,47.519611061600003]
["Basrah","Qurna","Talha","Sub District","Talha",30.832322513699999,47.264916544000002]
["Basrah","Qurna","Al Nashwa","Sub District","Al Nashwa",30.9071045311,47.6399817199]
["Basrah","Qurna","Al Dair","Sub District","Al Dair",30.764111146699999,47.392647463700001]
["Basrah","Qurna","Markaz Al Qurna","Sub District","Markaz Al Qurna",31.006961723700002,47.460437405199997]
["Basrah","Qurna","Al Thagar Nahia","Sub District","Al Thagar Nahia",31.1471980092,47.506412967499998]
["Basrah","Midaina","Markaz Al Midaina","Sub District","Markaz Al Midaina",30.9060577278,47.200346670199998]
["Basrah","Midaina","Al Howweir","Sub District","Al Howweir",31.140205811200001,47.245017621599999]
["Basrah","Basrah","Al Hartha","Sub District","Al Hartha",30.609038401500001,47.585254716800002]
["Basrah","Basrah","Markaz Al Basrah","Sub District","Markaz Al Basrah",30.460176634100002,47.778798953399999]
["Basrah","Fao","Al Bahhar","Sub District","Al Bahhar",30.110231410600001,48.193970143900003]
["Basrah","Fao","Markaz Al Faw","Sub District","Markaz Al Faw",29.9220475475,48.442285530200003]
["Basrah","Abu Al-Khaseeb","Markaz Abu al Khaseeb","Sub District","Markaz Abu al Khaseeb",30.416888953299999,47.905394236299998]
["Basrah","Abu Al-Khaseeb","Al Siba","Sub District","Al Siba",30.301097840899999,48.0536987833]
["Basrah","Shatt Al-Arab","Outba","Sub District","Outba",30.5060555202,47.959901744200003]
["Basrah","Shatt Al-Arab","Markaz Shat Al Arab","Sub District","Markaz Shat Al Arab",30.7673375054,47.888884687800001]
[]
["Dahuk","Dahuk","Zawita","Sub District","Zawita",36.9031971398,43.117175883199998]
["Dahuk","Dahuk","Markaz Dahuk","Sub District","Markaz Dahuk",36.855619385099999,42.992897857899997]
["Dahuk","Dahuk","Al Duski","Sub District","Al Duski",37.032613498300002,43.043105169500002]
["Dahuk","Amedi","Sarsink","Sub District","Sarsink",36.985023356500001,43.430338422399998]
["Dahuk","Amedi","Barwari Bala","Sub District","Barwari Bala",37.2214586029,43.3449829423]
["Dahuk","Amedi","Markaz Ali Al Amedi","Sub District","Markaz Ali Al Amedi",37.0591072912,43.619120340400002]
["Dahuk","Amedi","Nerwa Rekan","Sub District","Nerwa Rekan",37.167384970800001,43.864336335399997]
["Dahuk","Sumel","Fayde","Sub District","Fayde",36.746688852600002,42.9381503241]
["Dahuk","Sumel","Sindi","Sub District","Sindi",36.7762321103,42.939765373699998]
["Dahuk","Sumel","Al Selvani","Sub District","Al Selvani",37.000092559400002,42.601896755600002]
["Dahuk","Sumel","Markaz Sumel","Sub District","Markaz Sumel",36.889207960900002,42.7932431085]
["Dahuk","Zakho","Al Kali","Sub District","Al Kali",37.221581044399997,43.034179174000002]
["Dahuk","Zakho","Al Sindi","Sub District","Al Sindi",37.236200501200003,42.800339559500003]
["Dahuk","Zakho","Markaz Zakho","Sub District","Markaz Zakho",37.108286877499999,42.640754519200001]
[]
["Diyala","Baladrooz","Qazanya","Sub District","Qazanya",33.390542318199998,45.570317450200001]
["Diyala","Baladrooz","Kinan","Sub District","Kinan",33.6072749792,44.842893537800002]
["Diyala","Baladrooz","Mandali","Sub District","Mandali",33.7358174377,45.379083045999998]
["Diyala","Baladrooz","Al wajeheyeh","Sub District","Al wajeheyeh",33.800903698500001,44.921094961100003]
["Diyala","Baladrooz","Bahraz","Sub District","Bahraz",33.574510204399999,44.685908705599999]
["Diyala","Baladrooz","Markaz Baladruz","Sub District","Markaz Baladruz",33.503354418599997,45.089814071799999]
["Diyala","Ba'quba","Hubhub","Sub District","Hubhub",33.735141431800002,44.477394150499997]
["Diyala","Khanakin","Khanakin","Sub District","Markaz Khanakin",34.347634999999997,45.389035]
["Diyala","Khanaqin","Al Mansouriyah","Sub District","Al Mansouriyah",34.134243865800002,44.803255504500001]
["Diyala","Khanaqin","Jalula","Sub District","Jalula",34.287222616800001,45.075788547599998]
["Diyala","Khanaqin","As Saadia","Sub District","As Saadia",34.0906823288,45.178012538200001]
["Diyala","Khanaqin","Midan","Sub District","Midan",34.887231504600003,45.677608016699999]
["Diyala","Khanaqin","Qaratu","Sub District","Qaratu",34.594662421400002,45.500748713]
["Diyala","Khanaqin","Markaz Khanaquin","Sub District","Markaz Khanaquin",34.265224539000002,45.381181441099997]
["Diyala","Kifri","Al Atheem","Sub District","Al Atheem",34.264763038799998,44.577556637999997]
["Diyala","Kifri","Jabarra","Sub District","Jabarra",34.598347513599997,44.992649313800001]
["Diyala","Kifri","Qara Tabe","Sub District","Qara Tabe",34.444152343900001,44.864755216799999]
["Diyala","Kifri","Markaz Kifri","Sub District","Markaz Kifri",34.7377823287,45.056110943199997]
["Diyala","Khalis","Markaz Al Khalis","Sub District","Markaz Al Khalis",33.952574050999999,44.510639715899998]
["Diyala","Muqdadiya","Bani Sa'd","Sub District","Bani Sa'd",33.648783876300001,44.576100967099997]
["Diyala","Muqdadiya","Qalaa't Ansab","Sub District","Qalaa't Ansab",33.934880960699999,44.702489149900003]
["Diyala","Muqdadiya","Markaz Al Muqdadiya","Sub District","Markaz Al Muqdadiya",33.947527818600001,44.978939633800003]
[]
["Erbil","Choman","Haji Omaran","Sub District","Haji Omaran",36.690503089899998,44.961839828700001]
["Erbil","Choman","Balak","Sub District","Balak",36.6005154335,44.857025360000002]
["Erbil","Erbil","Markaz Erbil Centre","Sub District","Markaz Erbil Centre",36.215639690300002,43.953874511400002]
["Erbil","Erbil","Qushtappa","Sub District","Qushtappa",35.959717986100003,44.054946745300001]
["Erbil","Koisnjaq","Taq Taq","Sub District","Taq Taq",35.933538057900002,44.533322315699998]
["Erbil","Koisnjaq","Shorsh","Sub District","Shorsh",36.147371345800003,44.3913412052]
["Erbil","Koisnjaq","Markaz Koysinjaq","Sub District","Markaz Koysinjaq",36.105906636299999,44.6269476246]
["Erbil","Makhmur","Sargaran (Al Quds)","Sub District","Sargaran (Al Quds)",35.6816416809,43.937532289000004]
["Erbil","Makhmur","Dibaga","Sub District","Dibaga",35.846504335699997,43.737480866399999]
["Erbil","Makhmur","Gwyer","Sub District","Gwyer",36.062330674599998,43.605844597199997]
["Erbil","Makhmur","Qaraj","Sub District","Qaraj",35.613223526600002,43.585620531000004]
["Erbil","Makhmur","Markaz Makhmour","Sub District","Markaz Makhmour",35.8175396209,43.504122987099997]
["Erbil","Mergasur","Barzan","Sub District","Barzan",37.005800667499997,44.034287891399998]
["Erbil","Mergasur","Mergasur","Sub District","Mergasur",36.846452215600003,44.325549059700002]
["Erbil","Mergasur","Mazouri Bala","Sub District","Mazouri Bala",37.136257658600002,44.179117632999997]
["Erbil","Soran","Rawanduz","Sub District","Rawanduz",36.538522866699999,44.647854916999997]
["Erbil","Soran","Khailfan","Sub District","Khailfan",36.599764562099999,44.409309073199999]
["Erbil","Soran","Diana","Sub District","Diana",36.6890757157,44.535244689400002]
["Erbil","Soran","Bradost","Sub District","Bradost",36.947270827099999,44.649122291200001]
["Erbil","Shaqlawa","Shaqlawa","Sub District","Markaz Shaqlawa",36.396700000000003,44.338299999999997]
["Erbil","Shaqlawa","Salah Al Din","Sub District","Salah Al Din",36.398049459500001,44.120951013599999]
["Erbil","Shaqlawa","Khoshnaw","Sub District","Khoshnaw",36.377157948099999,44.439329770999997]
["Erbil","Shaqlawa","Harir","Sub District","Harir",36.547262884399998,44.241374780000001]
[]
["Kerbala","Ain Al-Tamur","Markaz Ain Al Tamur","Sub District","Markaz Ain Al Tamur",32.520085275500001,43.549162210299997]
["Kerbala","Kerbala","Markaz Kerbela","Sub District","Markaz Kerbela",32.473936728600002,43.9086961155]
["Kerbala","Hindiya","Al Hassainya","Sub District","Al Hassainya",32.728935562399997,44.1008806635]
["Kerbala","Hindiya","Markaz Al Hindiya","Sub District","Markaz Al Hindiya",32.467964621900002,44.1878814174]
[]
["Kirkuk","Dabes","Markaz Dibis","Sub District","Markaz Dibis",35.588488842700002,44.104453507199999]
["Kirkuk","Dabes","Altun Qupri","Sub District","Altun Qupri",35.703688672299997,44.298717006399997]
["Kirkuk","Daquq","Taza Khurmatu","Sub District","Taza Khurmatu",35.290210948899997,44.279086983799999]
["Kirkuk","Daquq","Laylan (Qara Hasan)","Sub District","Laylan (Qara Hasan)",35.297606831700001,44.578714394199999]
["Kirkuk","Daquq","Qara Hanjeer","Sub District","Qara Hanjeer",35.475866035700001,44.636824738100003]
["Kirkuk","Daquq","Markaz Daquq","Sub District","Markaz Daquq",35.011073177699998,44.367828331799998]
["Kirkuk","Kirkuk","Yaychi","Sub District","Yaychi",35.428912220900003,44.274713548599998]
["Kirkuk","Kirkuk","Rashad","Sub District","Rashad",35.044333912399999,44.0597068756]
["Kirkuk","Kirkuk","Schwan","Sub District","Schwan",35.705233477299998,44.594024605800001]
["Kirkuk","Kirkuk","Al Multaqa","Sub District","Al Multaqa",35.469655072000002,44.207747302000001]
["Kirkuk","Kirkuk","Markaz Kirkuk","Sub District","Markaz Kirkuk",35.506194976300002,44.416431379700001]
["Kirkuk","Hawiga","Al Hawija","Sub District","Al Hawija",35.396188712600001,43.880469873999999]
["Kirkuk","Hawiga","Al Abassy","Sub District","Al Abassy",35.224378638700003,43.580446115000001]
["Kirkuk","Hawiga","Al Zab","Sub District","Al Zab",35.402320049300002,43.552382639800001]
["Kirkuk","Hawiga","Al Riyad","Sub District","Al Riyad",35.205614486000002,43.883555854000001]
[]
["Missan","Amara","Al Msharah","Sub District","Al Msharah",31.872060797300001,47.397569531899997]
["Missan","Amara","Al Teeb","Sub District","Al Teeb",32.208944488100002,47.253956054900002]
["Missan","Amara","Kumait","Sub District","Kumait",31.896985863600001,46.704236931600001]
["Missan","Ali Al-Gharbi","Ali Al Sharki","Sub District","Ali Al Sharki",32.457150988000002,46.674497463000002]
["Missan","Ali Al-Gharbi","Markaz Ali Al Gharbi","Sub District","Markaz Ali Al Gharbi",32.276804573600003,46.895954682400003]
["Missan","Kahla","Al Rafeai","Sub District","Al Rafeai",31.633478972599999,47.633309542299997]
["Missan","Kahla","Al Kahla","Sub District","Al Kahla",31.653733578899999,47.303324462799999]
["Missan","Qal'at Saleh","Al Aziz","Sub District","Al Aziz",31.388501205899999,47.4818473423]
["Missan","Qal'at Saleh","Markaz Qalat Saleh","Sub District","Markaz Qalat Saleh",31.492187938000001,47.328594259799999]
["Missan","Mejar Al-Kabi","Al Adel","Sub District","Al Adel",31.406091445400001,47.120480240900001]
["Missan","Maimouna","Al Salam","Sub District","Al Salam",31.376341586900001,46.8583566545]
["Missan","Maimouna","Markaz Al Maimouna","Sub District","Markaz Al Maimouna",31.6484531706,46.769763710299998]
[]
["Muthanna","Rumaitha","Al Najmi","Sub District","Al Najmi",31.644055538100002,45.311983613700001]
["Muthanna","Rumaitha","Al Hilal","Sub District","Al Hilal",31.390215724699999,45.092621956899997]
["Muthanna","Rumaitha","Al Warka","Sub District","Al Warka",31.500879622199999,45.485468380699999]
["Muthanna","Rumaitha","Markaz Al Rumaitha","Sub District","Markaz Al Rumaitha",31.5237289246,45.169946984200003]
["Muthanna","Samawa","Al Majd Nahia","Sub District","Al Majd Nahia",31.331029364199999,45.1820214838]
["Muthanna","Samawa","Al Sowair","Sub District","Al Sowair",31.232408600999999,45.332912916300003]
["Muthanna","Salman","Markaz Al Salman","Sub District","Markaz Al Salman",30.0726211687,45.355053163100003]
["Muthanna","Khidhir","Markaz Al Khidhir","Sub District","Markaz Al Khidhir",31.214892067699999,45.641829578200003]
[]
[]
["Najaf","Kufa","Al Huriya","Sub District","Al Huriya",32.104722891100003,44.4963438009]
["Najaf","Kufa","Markaz Al Kufa","Sub District","Markaz Al Kufa",31.998808650899999,44.412611449899998]
["Najaf","Manathera","Al Heera","Sub District","Al Heera",31.7657965981,44.4657890342]
["Najaf","Najaf","Al Haydariya","Sub District","Al Haydariya",32.165306807599997,44.081707143300001]
["Najaf","Najaf","Al Shabaka","Sub District","Al Shabaka",31.136104442899999,43.4523070993]
["Najaf","Najaf","Markaz Al Najaf","Sub District","Markaz Al Najaf",31.9329832393,44.182802121599998]
[]
["Ninewa","Akre","Markaz Akre","Sub District","Markaz Akre",36.767527843400003,43.815992761099999]
["Ninewa","Akre","Dinartha","Sub District","Dinartha",36.8509351589,43.957604375999999]
["Ninewa","Akre","Bjeel","Sub District","Bjeel",36.661462419700001,44.105398452700001]
["Ninewa","Akre","Gerdaseen","Sub District","Gerdaseen",36.651573329900003,43.831641899099999]
["Ninewa","Akre","Bardarash","Sub District","Bardarash",36.488400364900002,43.683174082999997]
["Ninewa","Ba'aj","Markaz Al Ba'aj","Sub District","Markaz Al Ba'aj",35.638248291899998,41.679906351299998]
["Ninewa","Hatra","Hatra","Sub District","Markaz Hatra",35.575232999999997,42.731647000000002]
["Ninewa","Hatra","Markaz Hatra","Sub District","Markaz Hatra",35.493444481099999,42.460338759599999]
["Ninewa","Hamdaniya","Bartalla","Sub District","Bartalla",36.323794832700003,43.3579171051]
["Ninewa","Hamdaniya","Al Namroud","Sub District","Al Namroud",36.122796210799997,43.4079663682]
["Ninewa","Hamdaniya","Baashiqa","Sub District","Baashiqa",36.450222245799999,43.338753068000003]
["Ninewa","Hamdaniya","Markaz Al Hamdaniya","Sub District","Markaz Al Hamdaniya",36.275046399300003,43.490206849800003]
["Ninewa","Mosul","Mosul City","Sub District","Mosul City",36.341642,43.147281]
["Ninewa","Mosul","Al Muhamadath","Sub District","Al Muhamadath",36.266345864000002,42.836478941000003]
["Ninewa","Mosul","Al Qayara","Sub District","Al Qayara",35.8781342443,43.161335595399997]
["Ninewa","Mosul","Hamam al Aleel","Sub District","Hamam al Aleel",36.131400098299999,43.064414633299997]
["Ninewa","Shikhan","Qasrouk","Sub District","Qasrouk",36.724629657000001,43.530458932800002]
["Ninewa","Shikhan","Atroush","Sub District","Atroush",36.824914227100003,43.319057350999998]
["Ninewa","Shikhan","Markaz Sheikhan","Sub District","Markaz Sheikhan",36.628688310900003,43.3656609827]
["Ninewa","Sinjar","Al Qahtaniya","Sub District","Al Qahtaniya",36.2192228284,41.584566215400002]
["Ninewa","Sinjar","Al Shamal","Sub District","Al Shamal",36.4532102951,41.694227402499997]
["Ninewa","Sinjar","Markaz Sinjar","Sub District","Markaz Sinjar",36.279054707999997,41.922436267400002]
["Ninewa","Sinjar","Qaeyrrawan","Sub District","Qaeyrrawan",36.217737068399998,42.0814029326]
["Ninewa","Tilkaif","Wanna","Sub District","Wanna",36.552658131000001,42.879767033100002]
["Ninewa","Tilkaif","Al Qosh","Sub District","Al Qosh",36.677530963099997,43.086004952800003]
["Ninewa","Tilkaif","Markaz Tilkaef","Sub District","Markaz Tilkaef",36.498182839199998,43.083214502200001]
["Ninewa","Telafar","Zummar","Sub District","Zummar",36.765921531799997,42.563012179300003]
["Ninewa","Telafar","Rubiya","Sub District","Rubiya",36.682016393200001,42.190230824700002]
["Ninewa","Telafar","Ayadiya","Sub District","Ayadiya",36.5338886535,42.3885717004]
["Ninewa","Telafar","Markaz Tal Afar","Sub District","Markaz Tal Afar",36.299644368000003,42.477661995200002]
[]
["Qadissiya","Afaq","Al Bdair","Sub District","Al Bdair",31.867022586800001,45.515667574699997]
["Qadissiya","Afaq","Al Fawwar","Sub District","Al Fawwar",32.176336357099999,45.251300114300001]
["Qadissiya","Afaq","Markaz Afaq","Sub District","Markaz Afaq",32.073636979500002,45.358821453300003]
["Qadissiya","Diwaniya","Sumer","Sub District","Sumer",32.232015685599997,45.090265489399997]
["Qadissiya","Diwaniya","Al Mihanawiya","Sub District","Al Mihanawiya",31.970677803099999,44.627297195099999]
["Qadissiya","Diwaniya","Al Daghara","Sub District","Al Daghara",32.151455549399998,44.897988759599997]
["Qadissiya","Diwaniya","Al Shafeia","Sub District","Al Shafeia",31.900843995399999,44.814000866800001]
["Qadissiya","Diwaniya","Al Saniya","Sub District","Al Saniya",32.036121826799999,44.793309063700001]
["Qadissiya","Diwaniya","Markaz Al Diwaniya","Sub District","Markaz Al Diwaniya",31.961247458100001,45.032918665700002]
["Qadissiya","Hamza","Al Sadeer","Sub District","Al Sadeer",31.7942314676,45.0049385091]
["Qadissiya","Hamza","Al Shinafiya","Sub District","Al Shinafiya",31.501362703200002,44.750867976099997]
["Qadissiya","Hamza","Markaz Al Hamza","Sub District","Markaz Al Hamza",31.609851018400001,44.983143675999997]
["Qadissiya","Shamiya","Ghammas","Sub District","Ghammas",31.715462172599999,44.659037784299997]
[]
["Salah al-Din","Baiji","Baiji","Sub District","Markaz Baiji",34.933300000000003,43.4833]
["Salah al-Din","Baiji","MakkHoul","Sub District","MakkHoul",35.211718571200002,43.2420392963]
["Salah al-Din","Baiji","Al Siniya","Sub District","Al Siniya",34.817737853099999,42.990003238500002]
["Salah al-Din","Baiji","Markaz Baiji","Sub District","Markaz Baiji",34.916182089700001,43.534878073599998]
["Salah al-Din","Balad","Yathreb","Sub District","Yathreb",33.9496090624,44.2526892984]
["Salah al-Din","Daur","Al Moatassem","Sub District","Al Moatassem",34.124521211000001,44.076288116199997]
["Salah al-Din","Daur","Al Duloeyah","Sub District","Al Duloeyah",34.122343483000002,44.269212807899997]
["Salah al-Din","Daur","Abu Dalf","Sub District","Abu Dalf",34.4999607301,44.032080622099997]
["Salah al-Din","Fares","Al Dujeel","Sub District","Al Dujeel",33.789876749299999,43.999956236599999]
["Salah al-Din","Samarra","Al Tharthar","Sub District","Al Tharthar",34.151641501299999,43.461809735499997]
["Salah al-Din","Samarra","Markaz Samera'a","Sub District","Markaz Samera'a",34.243873893999996,44.0699590754]
["Salah al-Din","Shirqat","Markaz Al Shirqat","Sub District","Markaz Al Shirqat",35.479395920199998,43.1674772641]
["Salah al-Din","Tikrit","Tikrit","Sub District","Markaz Tikrit",34.615806999999997,43.678606000000002]
["Salah al-Din","Tikrit","Um Al Qura","Sub District","Um Al Qura",34.578900007800002,43.592869894800003]
["Salah al-Din","Tikrit","Al Alam","Sub District","Al Alam",34.814526779700003,43.798903268499998]
["Salah al-Din","Tikrit","Dijla","Sub District","Dijla",34.402067272399997,43.274085704299999]
["Salah al-Din","Tooz","Suleiman Beg","Sub District","Suleiman Beg",34.764375821000002,44.701375083000002]
["Salah al-Din","Tooz","Al Amerli","Sub District","Al Amerli",34.687581548499999,44.540718957000003]
["Salah al-Din","Tooz","Hamreen","Sub District","Hamreen",34.490950212900003,44.340582435400002]
["Salah al-Din","Tooz","Markaz Tuz","Sub District","Markaz Tuz",34.922063215000001,44.697063744300003]
["Salah al-Din","Thethar","Al Esshaqi","Sub District","Al Esshaqi",33.939982544700001,43.672407086600003]
[]
["Sulaymaniyah","Chamchamal","Sangaw","Sub District","Sangaw",35.230347206499999,45.220770034799997]
["Sulaymaniyah","Chamchamal","Aghjalar","Sub District","Aghjalar",35.747108308500003,44.849832790699999]
["Sulaymaniyah","Chamchamal","Qadir Karam","Sub District","Qadir Karam",35.162569550100002,44.879638720400003]
["Sulaymaniyah","Chamchamal","Markaz Chamchamal","Sub District","Markaz Chamchamal",35.498182931800002,44.9435984152]
["Sulaymaniyah","Dokan","Surdash","Sub District","Surdash",35.826182112700003,45.106906911700001]
["Sulaymaniyah","Dokan","Gnareen","Sub District","Gnareen",36.050189198699996,44.848657946700001]
["Sulaymaniyah","Dokan","Mirka","Sub District","Mirka",36.039709470399998,45.124755236699997]
["Sulaymaniyah","Darbandihkan","Markaz Darbandihkan","Sub District","Markaz Darbandihkan",35.196050056200001,45.732676785599999]
["Sulaymaniyah","Halabja","Shahrazur","Sub District","Shahrazur",35.363510911799999,45.855443282099998]
["Sulaymaniyah","Halabja","Khurman","Sub District","Khurman",35.348303574799999,46.034198177999997]
["Sulaymaniyah","Halabja","Biyara","Sub District","Biyara",35.201138139400001,46.113616069899997]
["Sulaymaniyah","Halabja","Markaz Halabja","Sub District","Markaz Halabja",35.108325503400003,45.927114643199999]
["Sulaymaniyah","Kalar","Tilako","Sub District","Tilako",34.884593192200001,45.177870196800001]
["Sulaymaniyah","Kalar","Pebaz","Sub District","Pebaz",34.970835130499999,45.449794798600003]
["Sulaymaniyah","Kalar","Markaz Kalar","Sub District","Markaz Kalar",34.688543821099998,45.3531530315]
["Sulaymaniyah","Rania","Ranya","Sub District","Ranya",36.255868732099998,44.823874640600003]
["Sulaymaniyah","Rania","Betwata","Sub District","Betwata",36.323210983300001,44.665345092999999]
["Sulaymaniyah","Sharbazher","Siwail","Sub District","Siwail",35.868812414499999,45.628941062599999]
["Sulaymaniyah","Sharbazher","Saruchik","Sub District","Saruchik",35.542947328899999,45.751043396599997]
["Sulaymaniyah","Sharbazher","Mawat","Sub District","Mawat",35.865517659600002,45.398155122799999]
["Sulaymaniyah","Sharbazher","Markaz Sharbazher","Sub District","Markaz Sharbazher",35.692630745800003,45.607528828500001]
["Sulaymaniyah","Sulaymaniyah","Sulaymaniyah","Sub District","Markaz Sulaymaniyah",35.561700000000002,45.440800000000003]
["Sulaymaniyah","Sulaymaniyah","Sarchnar","Sub District","Sarchnar",35.616178496400003,45.319890674]
["Sulaymaniyah","Sulaymaniyah","Bazyan","Sub District","Bazyan",35.565937163100003,45.147094533000001]
["Sulaymaniyah","Sulaymaniyah","Qaradagh","Sub District","Qaradagh",35.356051678699998,45.487852746199998]
["Sulaymaniyah","Pshdar","Hero","Sub District","Hero",36.102025774300003,45.291691280999999]
["Sulaymaniyah","Pshdar","Nawdasht","Sub District","Nawdasht",36.351604659899998,45.038096545800002]
["Sulaymaniyah","Pshdar","Markaz Pshdar","Sub District","Markaz Pshdar",36.213759979400002,45.193677811400001]
["Sulaymaniyah","Penjwin","Garmik","Sub District","Garmik",35.763709242099999,46.0483929508]
["Sulaymaniyah","Penjwin","Markaz Penjwin","Sub District","Markaz Penjwin",35.568371585900003,45.934117477699999]
[]
["Thi-Qar","Chibayish","Al Hammer","Sub District","Al Hammer",30.877747538400001,46.867100466700002]
["Thi-Qar","Chibayish","Markaz Al Chibayish","Sub District","Markaz Al Chibayish",30.923413942,47.038067751600003]
["Thi-Qar","Nassriya","Said Dekhil","Sub District","Said Dekhil",31.151011475400001,46.441501472100001]
["Thi-Qar","Nassriya","Al Nasiriya","Sub District","Al Nasiriya",30.975190835599999,46.213599586199997]
["Thi-Qar","Nassriya","Al Islah","Sub District","Al Islah",31.199829331299998,46.651371532600002]
["Thi-Qar","Nassriya","Al Battha'a","Sub District","Al Battha'a",31.053008763699999,45.9154519119]
["Thi-Qar","Shatra","Al Dawaya","Sub District","Al Dawaya",31.463574331099998,46.438051937099999]
["Thi-Qar","Shatra","Al Gharraf","Sub District","Al Gharraf",31.256618523099998,46.196418931099998]
["Thi-Qar","Shatra","Markaz Al Shatra","Sub District","Markaz Al Shatra",31.423000895400001,46.206052673400002]
["Thi-Qar","Rifa'i","Al Nasr","Sub District","Al Nasr",31.4745906329,45.986194613999999]
["Thi-Qar","Rifa'i","Al Fajer","Sub District","Al Fajer",31.883081791599999,45.892828916900001]
["Thi-Qar","Rifa'i","Qalat Siker","Sub District","Qalat Siker",31.8730752134,46.094922689199997]
["Thi-Qar","Rifa'i","Markaz Al Rifaai","Sub District","Markaz Al Rifaai",31.705654255799999,46.180992403899999]
["Thi-Qar","Suq Al-Shoyokh","Al Fhood","Sub District","Al Fhood",30.754730823100001,46.706252024199998]
["Thi-Qar","Suq Al-Shoyokh","Al Fadhliya","Sub District","Al Fadhliya",30.807978136700001,46.4117425158]
["Thi-Qar","Suq Al-Shoyokh","Akaika","Sub District","Akaika",30.976417055599999,46.466828335899997]
["Thi-Qar","Suq Al-Shoyokh","Garmat Beni Said","Sub District","Garmat Beni Said",30.801543156200001,46.580696263999997]
["Thi-Qar","Suq Al-Shoyokh","Al Ttar","Sub District","Al Ttar",30.929129491800001,46.655744516399999]
[]
["Wassit","Azezia","Al Hafriya","Sub District","Al Hafriya",33.042113724899998,44.822718068699999]
["Wassit","Azezia","Al Aziziya","Sub District","Al Aziziya",32.955066589300003,45.203001731599997]
["Wassit","Badra","Jassan","Sub District","Jassan",32.900769436899999,45.827625530100001]
["Wassit","Badra","Markaz Badra","Sub District","Markaz Badra",33.185727582699997,45.961280716300003]
["Wassit","Hai","Al Mowafaqiya","Sub District","Al Mowafaqiya",32.138050313599997,45.8515354671]
["Wassit","Hai","Al Bashaer","Sub District","Al Bashaer",32.154924504699999,46.116197057699999]
["Wassit","Kut","Wasit","Sub District","Wasit",32.321947609699997,46.240319080500001]
["Wassit","Kut","Shaekh Saad","Sub District","Shaekh Saad",32.753769468100003,46.341134039899998]
["Wassit","Kut","Shaekh Saad","Sub District","Shaekh Saad",32.522221107900002,46.294325480600001]
["Wassit","Kut","Markaz Al Kut","Sub District","Markaz Al Kut",32.6540834571,45.770046735599998]
["Wassit","Na'maniya","Al Ahrar","Sub District","Al Ahrar",32.348608411599997,45.626295990000003]
["Wassit","Na'maniya","Markaz Al Noamaniya","Sub District","Markaz Al Noamaniya",32.544794774499998,45.370799148099998]
["Wassit","Suwaira","Al Zubaidiya","Sub District","Al Zubaidiya",32.663719372700001,45.165078468700003]
["Wassit","Suwaira","Markaz Al Suwaira","Sub District","Markaz Al Suwaira",32.902207406700001,44.754947780800002]